Workbook

Sheet Ohje
X1: Versio 21.9.2026
B5: Ohjeet
A6: 1. | B6: Projektin alussa tietojen täyttäminen aloitetaan sen kuukauden osalta, milloin rakentaminen on aloitettu. Jos seurattavaa tietoa polttoaineiden tai käyttötuntien osalta ei ole jokaisen kuukauden osalta, kirjataan kyseisen kuukauden kohdalle 0. Seurantatiedot täytetään kalenterivuoden loppuun saakka käyttäen samaa tiedostoa.
A7: 2. | B7: Projektilla pääurakoitsija vastaa tietojen keräämisestä ja sen oikeellisuudesta oman sekä aliurakoitsijoiden toiminnan osalta. Heti projektin alussa pääurakoitsija nimeää vastuuhenkilön, joka vastaa kalustoluettelon täyttämisestä. Vastuuhenkilön nimi kirjataan Koonti -välilehdelle, mihin täytetään meneillään oleva seurantavuosi ja projektin nimi (kuva 1). Nimetty vastuuhenkilö on perehtynyt Kaupunkiliikenteen Päästöttömät työmaat Green Deal -sitoumuksen vaatimukset urakoille -liitteeseen, missä on tarkennettu mm. seurantaan ja sen ajantasaisuuteen liittyviä vaatimuksia, ohje mahdollisten poikkeamailmoitusten tekemiseen sekä tietoa mahdollisista sanktioista.
A8: 3. | B8: Työmaan seurannan osalta jokainen kalustoluettelossa pyydetty kohta tulee olla täytetty seurattavien asioiden osalta kaikilla välilehdillä (työmaakoneet, kuljetuskalusto, pienkoneet, muut kulutustiedot). Huomioi eri välilehdillä täyttämisessä kohdat, missä on alasvetovalikko, mihin valitaan valikon listasta oikea kirjaus (kuva 2). Huomioi Päästöttömät työmaat -vaatimukset polttoaineiden ja käytettävien kalustoluokkien (EURO ja STAGE) osalta. Sähkö-, vety- ja biokaasukäyttöisten työmaakoneiden ja kuljetuskaluston osalta kuukausiseurannassa kirjataan ainoastaan käyttötunnit.
A9: 4. | B9: Kalenterivuoden vaihtuessa kalustoluettelon täyttämisestä vastuussa oleva henkilö luo uuden tyhjän Kalustoluettelo -Excelin tulevan vuoden seurantaa varten. Edellisen vuoden kalustoluettelon vuositason toteumat kirjataan uuteen kalustoluetteloon, minkä avulla voidaan seurata projektin kumulatiivista toteumaa. Edellisen vuoden tiedot täytetään Koonti -välilehdelle kohtaan "yhteensä edellisen vuoden toteuma" kohdasta "yhteensä projektin kumulatiivinen toteuma" (kuva 3.).
A10: 5. | B10: Kaupunkiliikenne käyttää kalustoluettelo -Excelin tietoja vuositasolla päästöjen raportointiin, minkä vuoksi tietojen oikeellisuus ja ajantasaisuus on tärkeää. Urakoitsija on sitoutunut tarjousvaiheessa toimimaan Kaupunkiliikenteen Päästöttömät työmaat Green Deal -sitoumuksen vaatimusten mukaisesti ja vastaa siitä, että kalustoluettelon seurantatiedot ovat ajan tasalla ja oikein täytettynä. Epäselvässä tilanteessa tarkasta ohjeet (Kaupunkiliikenne Päästöttömät työmaat green deal -sitoumus) tai ole yhteydessä Kaupunkiliikenteen projektilla toimivaan projektipäällikköön. Kalustoluettelon päivityksiin liittyen voit olla yhteydessä vastuullisuus@kaupunkiliikenne.fi.
A11: Kuva 1.
A43: Kuva 2.
A63: Kuva 3.

Sheet Työmaakoneet
A1: Työmaakoneet (työmaan sisäinen toiminta)
A4: Nro. | B4: Merkki | C4: Malli | D4: Työmaakoneen vuosimalli | E4: Rekisterinumero (jos rekisterissä) tai tunniste esim. Volvo 1 | F4: Koneluokka | G4: Stage/ EURO (Alasvetovalikko) | H4: Käyttövoima (Alasvetovalikko) | I4: Pääasiallinen käyttötarkoitus työmaalla | J4: Aliurakoitsijan nimi ja Y-tunnus | K4: Lisäkommentit | L4: Tammikuu | O4: Helmikuu | R4: Maaliskuu | U4: Huhtikuu | X4: Toukokuu | AA4: Kesäkuu | AD4: Heinäkuu | AG4: Elokuu | AJ4: Syyskuu | AM4: Lokakuu | AP4: Marraskuu | AS4: Joulukuu | AV4: Summarivi
L5: Käyttötunnit sähkö,- biokaasu- tai vetykäyttöiset työkoneet (h) | M5: Uusiutuva polttoaine (l) | N5: Fosiilinen polttoaine (l) | O5: Käyttötunnit sähkö,- biokaasu- tai vetykäyttöiset työkoneet (h) | P5: Uusiutuva polttoaine (l) | Q5: Fosiilinen polttoaine (l) | R5: Käyttötunnit sähkö,- biokaasu- tai vetykäyttöiset työkoneet (h) | S5: Uusiutuva polttoaine (l) | T5: Fosiilinen polttoaine (l) | U5: Käyttötunnit sähkö,- biokaasu- tai vetykäyttöiset työkoneet (h) | V5: Uusiutuva polttoaine (l) | W5: Fosiilinen polttoaine (l) | X5: Käyttötunnit sähkö,- biokaasu- tai vetykäyttöiset työkoneet (h) | Y5: Uusiutuva polttoaine (l) | Z5: Fosiilinen polttoaine (l) | AA5: Käyttötunnit sähkö,- biokaasu- tai vetykäyttöiset työkoneet (h) | AB5: Uusiutuva polttoaine (l) | AC5: Fosiilinen polttoaine (l) | AD5: Käyttötunnit sähkö,- biokaasu- tai vetykäyttöiset työkoneet (h) | AE5: Uusiutuva polttoaine (l) | AF5: Fosiilinen polttoaine (l) | AG5: Käyttötunnit sähkö,- biokaasu- tai vetykäyttöiset työkoneet (h) | AH5: Uusiutuva polttoaine (l) | AI5: Fosiilinen polttoaine (l) | AJ5: Käyttötunnit sähkö,- biokaasu- tai vetykäyttöiset työkoneet (h) | AK5: Uusiutuva polttoaine (l) | AL5: Fosiilinen polttoaine (l) | AM5: Käyttötunnit sähkö,- biokaasu- tai vetykäyttöiset työkoneet (h) | AN5: Uusiutuva polttoaine (l) | AO5: Fosiilinen polttoaine (l) | AP5: Käyttötunnit sähkö,- biokaasu- tai vetykäyttöiset työkoneet (h) | AQ5: Uusiutuva polttoaine (l) | AR5: Fosiilinen polttoaine (l) | AS5: Käyttötunnit sähkö,- biokaasu- tai vetykäyttöiset työkoneet (h) | AT5: Uusiutuva polttoaine (l) | AU5: Fosiilinen polttoaine (l) | AV5: Käyttötunnit sähkö,- biokaasu- tai vetykäyttöiset työkoneet (h) | AW5: Uusiutuva polttoaine (l) | AX5: Fosiilinen polttoaine (l)
A6: 1. | AV6: =SUM(L6,O6,R6,U6,X6,AA6,AD6,AG6,AJ6,AM6,AP6,AS6) -> 0 | AW6: =SUM(M6,P6,S6,V6,Y6,AB6,AE6,AH6,AK6,AN6,AQ6,AT6) -> 0 | AX6: =SUM(N6,Q6,T6,W6,Z6,AC6,AF6,AI6,AL6,AO6,AR6,AU6) -> 0
A7: 2. | AV7: =SUM(L7,O7,R7,U7,X7,AA7,AD7,AG7,AJ7,AM7,AP7,AS7) -> 0 | AW7: =SUM(M7,P7,S7,V7,Y7,AB7,AE7,AH7,AK7,AN7,AQ7,AT7) -> 0 | AX7: =SUM(N7,Q7,T7,W7,Z7,AC7,AF7,AI7,AL7,AO7,AR7,AU7) -> 0
A8: 3. | AV8: =SUM(L8,O8,R8,U8,X8,AA8,AD8,AG8,AJ8,AM8,AP8,AS8) -> 0 | AW8: =SUM(M8,P8,S8,V8,Y8,AB8,AE8,AH8,AK8,AN8,AQ8,AT8) -> 0 | AX8: =SUM(N8,Q8,T8,W8,Z8,AC8,AF8,AI8,AL8,AO8,AR8,AU8) -> 0
A9: 4. | AV9: =SUM(L9,O9,R9,U9,X9,AA9,AD9,AG9,AJ9,AM9,AP9,AS9) -> 0 | AW9: =SUM(M9,P9,S9,V9,Y9,AB9,AE9,AH9,AK9,AN9,AQ9,AT9) -> 0 | AX9: =SUM(N9,Q9,T9,W9,Z9,AC9,AF9,AI9,AL9,AO9,AR9,AU9) -> 0
A10: 5. | AV10: =SUM(L10,O10,R10,U10,X10,AA10,AD10,AG10,AJ10,AM10,AP10,AS10) -> 0 | AW10: =SUM(M10,P10,S10,V10,Y10,AB10,AE10,AH10,AK10,AN10,AQ10,AT10) -> 0 | AX10: =SUM(N10,Q10,T10,W10,Z10,AC10,AF10,AI10,AL10,AO10,AR10,AU10) -> 0
A11: 6. | AV11: =SUM(L11,O11,R11,U11,X11,AA11,AD11,AG11,AJ11,AM11,AP11,AS11) -> 0 | AW11: =SUM(M11,P11,S11,V11,Y11,AB11,AE11,AH11,AK11,AN11,AQ11,AT11) -> 0 | AX11: =SUM(N11,Q11,T11,W11,Z11,AC11,AF11,AI11,AL11,AO11,AR11,AU11) -> 0
A12: 7. | AV12: =SUM(L12,O12,R12,U12,X12,AA12,AD12,AG12,AJ12,AM12,AP12,AS12) -> 0 | AW12: =SUM(M12,P12,S12,V12,Y12,AB12,AE12,AH12,AK12,AN12,AQ12,AT12) -> 0 | AX12: =SUM(N12,Q12,T12,W12,Z12,AC12,AF12,AI12,AL12,AO12,AR12,AU12) -> 0
A13: 8. | AV13: =SUM(L13,O13,R13,U13,X13,AA13,AD13,AG13,AJ13,AM13,AP13,AS13) -> 0 | AW13: =SUM(M13,P13,S13,V13,Y13,AB13,AE13,AH13,AK13,AN13,AQ13,AT13) -> 0 | AX13: =SUM(N13,Q13,T13,W13,Z13,AC13,AF13,AI13,AL13,AO13,AR13,AU13) -> 0
A14: 9. | AV14: =SUM(L14,O14,R14,U14,X14,AA14,AD14,AG14,AJ14,AM14,AP14,AS14) -> 0 | AW14: =SUM(M14,P14,S14,V14,Y14,AB14,AE14,AH14,AK14,AN14,AQ14,AT14) -> 0 | AX14: =SUM(N14,Q14,T14,W14,Z14,AC14,AF14,AI14,AL14,AO14,AR14,AU14) -> 0
A15: 10. | AV15: =SUM(L15,O15,R15,U15,X15,AA15,AD15,AG15,AJ15,AM15,AP15,AS15) -> 0 | AW15: =SUM(M15,P15,S15,V15,Y15,AB15,AE15,AH15,AK15,AN15,AQ15,AT15) -> 0 | AX15: =SUM(N15,Q15,T15,W15,Z15,AC15,AF15,AI15,AL15,AO15,AR15,AU15) -> 0
A16: 11. | AV16: =SUM(L16,O16,R16,U16,X16,AA16,AD16,AG16,AJ16,AM16,AP16,AS16) -> 0 | AW16: =SUM(M16,P16,S16,V16,Y16,AB16,AE16,AH16,AK16,AN16,AQ16,AT16) -> 0 | AX16: =SUM(N16,Q16,T16,W16,Z16,AC16,AF16,AI16,AL16,AO16,AR16,AU16) -> 0
A17: 12. | AV17: =SUM(L17,O17,R17,U17,X17,AA17,AD17,AG17,AJ17,AM17,AP17,AS17) -> 0 | AW17: =SUM(M17,P17,S17,V17,Y17,AB17,AE17,AH17,AK17,AN17,AQ17,AT17) -> 0 | AX17: =SUM(N17,Q17,T17,W17,Z17,AC17,AF17,AI17,AL17,AO17,AR17,AU17) -> 0
... A255: 250. | AV255: =SUM(L255,O255,R255,U255,X255,AA255,AD255,AG255,AJ255,AM255,AP255,AS255) -> 0 | AW255: =SUM(M255,P255,S255,V255,Y255,AB255,AE255,AH255,AK255,AN255,AQ255,AT255) -> 0 | AX255: =SUM(N255,Q255,T255,W255,Z255,AC255,AF255,AI255,AL255,AO255,AR255,AU255) -> 0

Sheet Kuljetuskalusto
A1: Kuljetuskalusto sisäiset ja ulkoiset kuljetukset
A2: Huom! Ulkoisten kuljetusten seurannan vähimmäisvaatimus: PIMA- ja muut maa-aineskuljetukset, betoniautot sekä kuormausnosturit
A4: Nro. | B4: Merkki | C4: Malli | D4: Kuljetuskaluston vuosimalli | E4: Rekisterinumero | F4: Ajoneuvoluokka | G4: Stage/EURO -luokka (Alasvetovalikko) | H4: Käyttövoima (Alasvetovalikko) | I4: Sisäinen vai ulkoinen kuljetus (Alasvetovalikko) | J4: Pääasiallinen käyttötarkoitus työmaalla | K4: Aliurakoitsijan nimi ja Y-tunnus | L4: Lisäkommentit | M4: Tammikuu | P4: Helmikuu | S4: Maaliskuu | V4: Huhtikuu | Y4: Toukokuu | AB4: Kesäkuu | AE4: Heinäkuu | AH4: Elokuu | AK4: Syyskuu | AN4: Lokakuu | AQ4: Marraskuu | AT4: Joulukuu | AW4: Summarivi
M5: Käyttötunnit sähkö,- biokaasu- tai vetykäyttöiset työkoneet (h) | N5: Uusiutuva polttoaine (l) | O5: Fosiilinen polttoaine (l) | P5: Käyttötunnit sähkö,- biokaasu- tai vetykäyttöiset työkoneet (h) | Q5: Uusiutuva polttoaine (l) | R5: Fosiilinen polttoaine (l) | S5: Käyttötunnit sähkö,- biokaasu- tai vetykäyttöiset työkoneet (h) | T5: Uusiutuva polttoaine (l) | U5: Fosiilinen polttoaine (l) | V5: Käyttötunnit sähkö,- biokaasu- tai vetykäyttöiset työkoneet (h) | W5: Uusiutuva polttoaine (l) | X5: Fosiilinen polttoaine (l) | Y5: Käyttötunnit sähkö,- biokaasu- tai vetykäyttöiset työkoneet (h) | Z5: Uusiutuva polttoaine (l) | AA5: Fosiilinen polttoaine (l) | AB5: Käyttötunnit sähkö,- biokaasu- tai vetykäyttöiset työkoneet (h) | AC5: Uusiutuva polttoaine (l) | AD5: Fosiilinen polttoaine (l) | AE5: Käyttötunnit sähkö,- biokaasu- tai vetykäyttöiset työkoneet (h) | AF5: Uusiutuva polttoaine (l) | AG5: Fosiilinen polttoaine (l) | AH5: Käyttötunnit sähkö,- biokaasu- tai vetykäyttöiset työkoneet (h) | AI5: Uusiutuva polttoaine (l) | AJ5: Fosiilinen polttoaine (l) | AK5: Käyttötunnit sähkö,- biokaasu- tai vetykäyttöiset työkoneet (h) | AL5: Uusiutuva polttoaine (l) | AM5: Fosiilinen polttoaine (l) | AN5: Käyttötunnit sähkö,- biokaasu- tai vetykäyttöiset työkoneet (h) | AO5: Uusiutuva polttoaine (l) | AP5: Fosiilinen polttoaine (l) | AQ5: Käyttötunnit sähkö,- biokaasu- tai vetykäyttöiset työkoneet (h) | AR5: Uusiutuva polttoaine (l) | AS5: Fosiilinen polttoaine (l) | AT5: Käyttötunnit sähkö,- biokaasu- tai vetykäyttöiset työkoneet (h) | AU5: Uusiutuva polttoaine (l) | AV5: Fosiilinen polttoaine (l) | AW5: Käyttötunnit sähkö,- biokaasu- tai vetykäyttöiset työkoneet (h) | AX5: Uusiutuva polttoaine (l) | AY5: Fosiilinen polttoaine (l)
A6: 1. | AW6: =M6+P6+S6+V6+Y6+AB6+AE6+AH6+AK6+AN6+AQ6+AT6 -> 0 | AX6: =N6+Q6+T6+W6+Z6+AC6+AF6+AI6+AL6+AO6+AR6+AU6 -> 0 | AY6: =O6+R6+U6+X6+AA6+AD6+AG6+AJ6+AM6+AP6+AS6+AV6 -> 0
A7: 2. | AW7: =M7+P7+S7+V7+Y7+AB7+AE7+AH7+AK7+AN7+AQ7+AT7 -> 0 | AX7: =N7+Q7+T7+W7+Z7+AC7+AF7+AI7+AL7+AO7+AR7+AU7 -> 0 | AY7: =O7+R7+U7+X7+AA7+AD7+AG7+AJ7+AM7+AP7+AS7+AV7 -> 0
A8: 3. | AW8: =M8+P8+S8+V8+Y8+AB8+AE8+AH8+AK8+AN8+AQ8+AT8 -> 0 | AX8: =N8+Q8+T8+W8+Z8+AC8+AF8+AI8+AL8+AO8+AR8+AU8 -> 0 | AY8: =O8+R8+U8+X8+AA8+AD8+AG8+AJ8+AM8+AP8+AS8+AV8 -> 0
A9: 4. | AW9: =M9+P9+S9+V9+Y9+AB9+AE9+AH9+AK9+AN9+AQ9+AT9 -> 0 | AX9: =N9+Q9+T9+W9+Z9+AC9+AF9+AI9+AL9+AO9+AR9+AU9 -> 0 | AY9: =O9+R9+U9+X9+AA9+AD9+AG9+AJ9+AM9+AP9+AS9+AV9 -> 0
A10: 5. | AW10: =M10+P10+S10+V10+Y10+AB10+AE10+AH10+AK10+AN10+AQ10+AT10 -> 0 | AX10: =N10+Q10+T10+W10+Z10+AC10+AF10+AI10+AL10+AO10+AR10+AU10 -> 0 | AY10: =O10+R10+U10+X10+AA10+AD10+AG10+AJ10+AM10+AP10+AS10+AV10 -> 0
A11: 6. | AW11: =M11+P11+S11+V11+Y11+AB11+AE11+AH11+AK11+AN11+AQ11+AT11 -> 0 | AX11: =N11+Q11+T11+W11+Z11+AC11+AF11+AI11+AL11+AO11+AR11+AU11 -> 0 | AY11: =O11+R11+U11+X11+AA11+AD11+AG11+AJ11+AM11+AP11+AS11+AV11 -> 0
A12: 7. | AW12: =M12+P12+S12+V12+Y12+AB12+AE12+AH12+AK12+AN12+AQ12+AT12 -> 0 | AX12: =N12+Q12+T12+W12+Z12+AC12+AF12+AI12+AL12+AO12+AR12+AU12 -> 0 | AY12: =O12+R12+U12+X12+AA12+AD12+AG12+AJ12+AM12+AP12+AS12+AV12 -> 0
A13: 8. | AW13: =M13+P13+S13+V13+Y13+AB13+AE13+AH13+AK13+AN13+AQ13+AT13 -> 0 | AX13: =N13+Q13+T13+W13+Z13+AC13+AF13+AI13+AL13+AO13+AR13+AU13 -> 0 | AY13: =O13+R13+U13+X13+AA13+AD13+AG13+AJ13+AM13+AP13+AS13+AV13 -> 0
A14: 9. | AW14: =M14+P14+S14+V14+Y14+AB14+AE14+AH14+AK14+AN14+AQ14+AT14 -> 0 | AX14: =N14+Q14+T14+W14+Z14+AC14+AF14+AI14+AL14+AO14+AR14+AU14 -> 0 | AY14: =O14+R14+U14+X14+AA14+AD14+AG14+AJ14+AM14+AP14+AS14+AV14 -> 0
A15: 10. | AW15: =M15+P15+S15+V15+Y15+AB15+AE15+AH15+AK15+AN15+AQ15+AT15 -> 0 | AX15: =N15+Q15+T15+W15+Z15+AC15+AF15+AI15+AL15+AO15+AR15+AU15 -> 0 | AY15: =O15+R15+U15+X15+AA15+AD15+AG15+AJ15+AM15+AP15+AS15+AV15 -> 0
A16: 11. | AW16: =M16+P16+S16+V16+Y16+AB16+AE16+AH16+AK16+AN16+AQ16+AT16 -> 0 | AX16: =N16+Q16+T16+W16+Z16+AC16+AF16+AI16+AL16+AO16+AR16+AU16 -> 0 | AY16: =O16+R16+U16+X16+AA16+AD16+AG16+AJ16+AM16+AP16+AS16+AV16 -> 0
A17: 12. | AW17: =M17+P17+S17+V17+Y17+AB17+AE17+AH17+AK17+AN17+AQ17+AT17 -> 0 | AX17: =N17+Q17+T17+W17+Z17+AC17+AF17+AI17+AL17+AO17+AR17+AU17 -> 0 | AY17: =O17+R17+U17+X17+AA17+AD17+AG17+AJ17+AM17+AP17+AS17+AV17 -> 0
... A255: 250. | AW255: =M255+P255+S255+V255+Y255+AB255+AE255+AH255+AK255+AN255+AQ255+AT255 -> 0 | AX255: =N255+Q255+T255+W255+Z255+AC255+AF255+AI255+AL255+AO255+AR255+AU255 -> 0 | AY255: =O255+R255+U255+X255+AA255+AD255+AG255+AJ255+AM255+AP255+AS255+AV255 -> 0

Sheet Pienkoneet
A1: Pienkoneet teho ≤4 kW
A2: Huom! listataan pienkoneet, jotka eivät ole sähkökäyttöisiä
A4: Nro. | B4: Merkki | C4: Malli | D4: Sarjanumero | E4: Käyttötarkoitus | F4: Polttoaine (Alasvetovalikko) | G4: Teho (kW) | H4: Käytössä työmaalla (aikaväli) | I4: Miksi ei voida käyttää sähkökäyttöistä pienkonetta? | J4: Tammikuu | L4: Helmikuu | N4: Maaliskuu | P4: Huhtikuu | R4: Toukokuu | T4: Kesäkuu | V4: Heinäkuu | X4: Elokuu | Z4: Syyskuu | AB4: Lokakuu | AD4: Marraskuu | AF4: Joulukuu | AH4: Summarivi
J5: Uusiutuva polttoaine (l) | K5: Fosiilinen polttoaine (l) | L5: Uusiutuva polttoaine (l) | M5: Fosiilinen polttoaine (l) | N5: Uusiutuva polttoaine (l) | O5: Fosiilinen polttoaine (l) | P5: Uusiutuva polttoaine (l) | Q5: Fosiilinen polttoaine (l) | R5: Uusiutuva polttoaine (l) | S5: Fosiilinen polttoaine (l) | T5: Uusiutuva polttoaine (l) | U5: Fosiilinen polttoaine (l) | V5: Uusiutuva polttoaine (l) | W5: Fosiilinen polttoaine (l) | X5: Uusiutuva polttoaine (l) | Y5: Fosiilinen polttoaine (l) | Z5: Uusiutuva polttoaine (l) | AA5: Fosiilinen polttoaine (l) | AB5: Uusiutuva polttoaine (l) | AC5: Fosiilinen polttoaine (l) | AD5: Uusiutuva polttoaine (l) | AE5: Fosiilinen polttoaine (l) | AF5: Uusiutuva polttoaine (l) | AG5: Fosiilinen polttoaine (l) | AH5: Uusiutuva polttoaine (l) | AI5: Fosiilinen polttoaine (l)
A6: 1. | AH6: =AF6+AD6+AB6+Z6+X6+V6+T6+R6+P6+N6+L6+J6 -> 0 | AI6: =SUM(AG6,AE6,AC6,AA6,Y6,W6,U6,S6,Q6,O6,M6,K6) -> 0
A7: 2. | AH7: =AF7+AD7+AB7+Z7+X7+V7+T7+R7+P7+N7+L7+J7 -> 0 | AI7: =SUM(AG7,AE7,AC7,AA7,Y7,W7,U7,S7,Q7,O7,M7,K7) -> 0
A8: 3. | AH8: =AF8+AD8+AB8+Z8+X8+V8+T8+R8+P8+N8+L8+J8 -> 0 | AI8: =SUM(AG8,AE8,AC8,AA8,Y8,W8,U8,S8,Q8,O8,M8,K8) -> 0
A9: 4. | AH9: =AF9+AD9+AB9+Z9+X9+V9+T9+R9+P9+N9+L9+J9 -> 0 | AI9: =SUM(AG9,AE9,AC9,AA9,Y9,W9,U9,S9,Q9,O9,M9,K9) -> 0
A10: 5. | AH10: =AF10+AD10+AB10+Z10+X10+V10+T10+R10+P10+N10+L10+J10 -> 0 | AI10: =SUM(AG10,AE10,AC10,AA10,Y10,W10,U10,S10,Q10,O10,M10,K10) -> 0
A11: 6. | AH11: =AF11+AD11+AB11+Z11+X11+V11+T11+R11+P11+N11+L11+J11 -> 0 | AI11: =SUM(AG11,AE11,AC11,AA11,Y11,W11,U11,S11,Q11,O11,M11,K11) -> 0
A12: 7. | AH12: =AF12+AD12+AB12+Z12+X12+V12+T12+R12+P12+N12+L12+J12 -> 0 | AI12: =SUM(AG12,AE12,AC12,AA12,Y12,W12,U12,S12,Q12,O12,M12,K12) -> 0
A13: 8. | AH13: =AF13+AD13+AB13+Z13+X13+V13+T13+R13+P13+N13+L13+J13 -> 0 | AI13: =SUM(AG13,AE13,AC13,AA13,Y13,W13,U13,S13,Q13,O13,M13,K13) -> 0
A14: 9. | AH14: =AF14+AD14+AB14+Z14+X14+V14+T14+R14+P14+N14+L14+J14 -> 0 | AI14: =SUM(AG14,AE14,AC14,AA14,Y14,W14,U14,S14,Q14,O14,M14,K14) -> 0
A15: 10. | AH15: =AF15+AD15+AB15+Z15+X15+V15+T15+R15+P15+N15+L15+J15 -> 0 | AI15: =SUM(AG15,AE15,AC15,AA15,Y15,W15,U15,S15,Q15,O15,M15,K15) -> 0
A16: 11. | AH16: =AF16+AD16+AB16+Z16+X16+V16+T16+R16+P16+N16+L16+J16 -> 0 | AI16: =SUM(AG16,AE16,AC16,AA16,Y16,W16,U16,S16,Q16,O16,M16,K16) -> 0
A17: 12. | AH17: =AF17+AD17+AB17+Z17+X17+V17+T17+R17+P17+N17+L17+J17 -> 0 | AI17: =SUM(AG17,AE17,AC17,AA17,Y17,W17,U17,S17,Q17,O17,M17,K17) -> 0
... A255: 250. | AH255: =AF255+AD255+AB255+Z255+X255+V255+T255+R255+P255+N255+L255+J255 -> 0 | AI255: =SUM(AG255,AE255,AC255,AA255,Y255,W255,U255,S255,Q255,O255,M255,K255) -> 0

Sheet Muut kulutustiedot
A1: #VALUE!
A6: Työmaalle ostettu polttoaine (täytettävät polttoainesäiliöt tai muut kanisterit)
B7: Tammikuu | C7: Helmikuu | D7: Maaliskuu | E7: Huhtikuu | F7: Toukokuu | G7: Kesäkuu | H7: Heinäkuu | I7: Elokuu | J7: Syyskuu | K7: Lokakuu | L7: Marraskuu | M7: Joulukuu
A8: Diesel (uusiutuva) (l)
A9: Kevyt polttoöljy (uusiutuva) (l)
A10: Diesel (fossiilinen) (l)
A11: Bensiini (fossiilinen) (l)
A12: Kevytpolttoöljy (fossiilinen) (l)
A13: Kaasu (fossiilinen) (kg)
A14: Alkylaattibensiini (vähäpäästöinen) (l)
A15: Muu polttoaine: polttoaineen nimi (l)
A17: Sähkön-, lämmön- ja vedenkulutus
B18: Tammikuu | C18: Helmikuu | D18: Maaliskuu | E18: Huhtikuu | F18: Toukokuu | G18: Kesäkuu | H18: Heinäkuu | I18: Elokuu | J18: Syyskuu | K18: Lokakuu | L18: Marraskuu | M18: Joulukuu
A19: Sähkönkulutus (kWh)
A20: Lämmönkulutus (kWh)
A21: Vedenkulutus (m³)

Sheet Koonti
A1: #VALUE! | C1: Työmaan nimi tämän tekstin paikalle
A4: Seurantavuosi: | B4: 2026 | C4: Työmaan green deal- ja kalustoluettelovastaava: | E4: Etu- ja sukunimi
B6: Työmaakoneet (työmaan sisäinen) | C6: Yhteensä kulunut vuosi | D6: Yhteensä edellisten vuosien toteuma | E6: Yhteensä projektin kumulatiivinen toteuma | H6: Työmaakoneet (työmaan sisäinen) | I6: Tammikuu | J6: Helmikuu | K6: Maaliskuu | L6: Huhtikuu | M6: Toukokuu | N6: Kesäkuu | O6: Heinäkuu | P6: Elokuu | Q6: Syyskuu | R6: Lokakuu | S6: Marraskuu | T6: Joulukuu
B7: Sähkö-, vety ja biokaasukäyttöisten työkoneiden käyttötunnit (h) | C7: =SUM(Koonti!I7,Koonti!J7,Koonti!K7,Koonti!L7,Koonti!M7,Koonti!N7,Koonti!O7,Koonti!P7,Koonti!Q7,Koonti!R7,Koonti!S7,Koonti!T7) -> 0 | E7: =SUM(C7+D7) -> 0 | H7: Sähkö-, vety ja biokaasukäyttöisten työkoneiden käyttötunnit (h) | I7: =SUM(Työmaakoneet!L6:L255) -> 0 | J7: =SUM(Työmaakoneet!O6:O255) -> 0 | K7: =SUM(Työmaakoneet!R6:R255) -> 0 | L7: =SUM(Työmaakoneet!U6:U255) -> 0 | M7: =SUM(Työmaakoneet!X6:X255) -> 0 | N7: =SUM(Työmaakoneet!AA6:AA255) -> 0 | O7: =SUM(Työmaakoneet!AD6:AD255) -> 0 | P7: =SUM(Työmaakoneet!AG6:AG255) -> 0 | Q7: =SUM(Työmaakoneet!AJ6:AJ255) -> 0 | R7: =SUM(Työmaakoneet!AM6:AM255) -> 0 | S7: =SUM(Työmaakoneet!AP6:AP255) -> 0 | T7: =SUM(Työmaakoneet!AS6:AS255) -> 0
B8: Uusiutuva polttoaine (l) | C8: =SUM(Työmaakoneet!AW6:AW255) -> 0 | E8: =SUM(C8+D8) -> 0 | H8: Uusiutuva polttoaine (l) | I8: =SUM(Työmaakoneet!M6:M255) -> 0 | J8: =SUM(Työmaakoneet!P6:P255) -> 0 | K8: =SUM(Työmaakoneet!S6:S255) -> 0 | L8: =SUM(Työmaakoneet!V6:V255) -> 0 | M8: =SUM(Työmaakoneet!Y6:Y255) -> 0 | N8: =SUM(Työmaakoneet!AB6:AB255) -> 0 | O8: =SUM(Työmaakoneet!AE6:AE255) -> 0 | P8: =SUM(Työmaakoneet!AH6:AH255) -> 0 | Q8: =SUM(Työmaakoneet!AK6:AK255) -> 0 | R8: =SUM(Työmaakoneet!AN6:AN255) -> 0 | S8: =SUM(Työmaakoneet!AQ6:AQ255) -> 0 | T8: =SUM(Työmaakoneet!AT6:AT255) -> 0
B9: Fossiilinen polttoaine (l) | C9: =SUM(Työmaakoneet!AX6:AX255) -> 0 | E9: =SUM(C9+D9) -> 0 | H9: Fossiilinen polttoaine (l) | I9: =SUM(Työmaakoneet!N6:N255) -> 0 | J9: =SUM(Työmaakoneet!Q6:Q255) -> 0 | K9: =SUM(Työmaakoneet!T6:T255) -> 0 | L9: =SUM(Työmaakoneet!W6:W255) -> 0 | M9: =SUM(Työmaakoneet!Z6:Z255) -> 0 | N9: =SUM(Työmaakoneet!AC6:AC255) -> 0 | O9: =SUM(Työmaakoneet!AF6:AF255) -> 0 | P9: =SUM(Työmaakoneet!AI6:AI255) -> 0 | Q9: =SUM(Työmaakoneet!AL6:AL255) -> 0 | R9: =SUM(Työmaakoneet!AO6:AO255) -> 0 | S9: =SUM(Työmaakoneet!AR6:AR255) -> 0 | T9: =SUM(Työmaakoneet!AU6:AU255) -> 0
B10: Sähkö-, vety ja biokaasukäyttöisten työkoneiden % osuus kpl määrästä (Kaupunkiliikenteen vuositavoite 20 %) | C10: {=IFERROR(SUMPRODUCT(--(((LEFT(Työmaakoneet!$H$6:$H$255,5)="Sähkö")+(LEFT(Työmaakoneet!$H$6:$H$255,8)="Biokaasu")+(LEFT(Työmaakoneet!$H$6:$H$255,4)="Vety"))>0),--(((Työmaakoneet!$AV$6:$AV$255)+(Työmaakoneet!$AW$6:$AW$255)+(Työmaakoneet!$AX$6:$AX$255))>0))/SUMPRODUCT(--(((Työmaakoneet!$AV$6:$AV$255)+(Työmaakoneet!$AW$6:$AW$255)+(Työmaakoneet!$AX$6:$AX$255))>0)),0)} -> 0 | E10: =AVERAGE(C10:D10) -> 0 | H10: Sähkö-, vety ja biokaasukäyttöisten työkoneiden % osuus kpl määrästä (Kaupunkiliikenteen vuositavoite 20 %) | I10: {=IFERROR(SUMPRODUCT(--(((LEFT(Työmaakoneet!$H$6:$H$255,5)="Sähkö")+(LEFT(Työmaakoneet!$H$6:$H$255,8)="Biokaasu")+(LEFT(Työmaakoneet!$H$6:$H$255,4)="Vety"))>0),--(((Työmaakoneet!L$6:L$255)+(Työmaakoneet!M$6:M$255)+(Työmaakoneet!N$6:N$255))>0))/SUMPRODUCT(--(((Työmaakoneet!L$6:L$255)+(Työmaakoneet!M$6:M$255)+(Työmaakoneet!N$6:N$255))>0)),0)} -> 0 | J10: {=IFERROR(SUMPRODUCT(--(((LEFT(Työmaakoneet!$H$6:$H$255,5)="Sähkö")+(LEFT(Työmaakoneet!$H$6:$H$255,8)="Biokaasu")+(LEFT(Työmaakoneet!$H$6:$H$255,4)="Vety"))>0),--(((Työmaakoneet!O$6:O$255)+(Työmaakoneet!P$6:P$255)+(Työmaakoneet!Q$6:Q$255))>0))/SUMPRODUCT(--(((Työmaakoneet!O$6:O$255)+(Työmaakoneet!P$6:P$255)+(Työmaakoneet!Q$6:Q$255))>0)),0)} -> 0 | K10: {=IFERROR(SUMPRODUCT(--(((LEFT(Työmaakoneet!$H$6:$H$255,5)="Sähkö")+(LEFT(Työmaakoneet!$H$6:$H$255,8)="Biokaasu")+(LEFT(Työmaakoneet!$H$6:$H$255,4)="Vety"))>0),--(((Työmaakoneet!R$6:R$255)+(Työmaakoneet!S$6:S$255)+(Työmaakoneet!T$6:T$255))>0))/SUMPRODUCT(--(((Työmaakoneet!R$6:R$255)+(Työmaakoneet!S$6:S$255)+(Työmaakoneet!T$6:T$255))>0)),0)} -> 0 | L10: {=IFERROR(SUMPRODUCT(--(((LEFT(Työmaakoneet!$H$6:$H$255,5)="Sähkö")+(LEFT(Työmaakoneet!$H$6:$H$255,8)="Biokaasu")+(LEFT(Työmaakoneet!$H$6:$H$255,4)="Vety"))>0),--(((Työmaakoneet!U$6:U$255)+(Työmaakoneet!V$6:V$255)+(Työmaakoneet!W$6:W$255))>0))/SUMPRODUCT(--(((Työmaakoneet!U$6:U$255)+(Työmaakoneet!V$6:V$255)+(Työmaakoneet!W$6:W$255))>0)),0)} -> 0 | M10: {=IFERROR(SUMPRODUCT(--(((LEFT(Työmaakoneet!$H$6:$H$255,5)="Sähkö")+(LEFT(Työmaakoneet!$H$6:$H$255,8)="Biokaasu")+(LEFT(Työmaakoneet!$H$6:$H$255,4)="Vety"))>0),--(((Työmaakoneet!X$6:X$255)+(Työmaakoneet!Y$6:Y$255)+(Työmaakoneet!Z$6:Z$255))>0))/SUMPRODUCT(--(((Työmaakoneet!X$6:X$255)+(Työmaakoneet!Y$6:Y$255)+(Työmaakoneet!Z$6:Z$255))>0)),0)} -> 0 | N10: {=IFERROR(SUMPRODUCT(--(((LEFT(Työmaakoneet!$H$6:$H$255,5)="Sähkö")+(LEFT(Työmaakoneet!$H$6:$H$255,8)="Biokaasu")+(LEFT(Työmaakoneet!$H$6:$H$255,4)="Vety"))>0),--(((Työmaakoneet!AA$6:AA$255)+(Työmaakoneet!AB$6:AB$255)+(Työmaakoneet!AC$6:AC$255))>0))/SUMPRODUCT(--(((Työmaakoneet!AA$6:AA$255)+(Työmaakoneet!AB$6:AB$255)+(Työmaakoneet!AC$6:AC$255))>0)),0)} -> 0 | O10: {=IFERROR(SUMPRODUCT(--(((LEFT(Työmaakoneet!$H$6:$H$255,5)="Sähkö")+(LEFT(Työmaakoneet!$H$6:$H$255,8)="Biokaasu")+(LEFT(Työmaakoneet!$H$6:$H$255,4)="Vety"))>0),--(((Työmaakoneet!AD$6:AD$255)+(Työmaakoneet!AE$6:AE$255)+(Työmaakoneet!AF$6:AF$255))>0))/SUMPRODUCT(--(((Työmaakoneet!AD$6:AD$255)+(Työmaakoneet!AE$6:AE$255)+(Työmaakoneet!AF$6:AF$255))>0)),0)} -> 0 | P10: {=IFERROR(SUMPRODUCT(--(((LEFT(Työmaakoneet!$H$6:$H$255,5)="Sähkö")+(LEFT(Työmaakoneet!$H$6:$H$255,8)="Biokaasu")+(LEFT(Työmaakoneet!$H$6:$H$255,4)="Vety"))>0),--(((Työmaakoneet!AG$6:AG$255)+(Työmaakoneet!AH$6:AH$255)+(Työmaakoneet!AI$6:AI$255))>0))/SUMPRODUCT(--(((Työmaakoneet!AG$6:AG$255)+(Työmaakoneet!AH$6:AH$255)+(Työmaakoneet!AI$6:AI$255))>0)),0)} -> 0 | Q10: {=IFERROR(SUMPRODUCT(--(((LEFT(Työmaakoneet!$H$6:$H$255,5)="Sähkö")+(LEFT(Työmaakoneet!$H$6:$H$255,8)="Biokaasu")+(LEFT(Työmaakoneet!$H$6:$H$255,4)="Vety"))>0),--(((Työmaakoneet!AJ$6:AJ$255)+(Työmaakoneet!AK$6:AK$255)+(Työmaakoneet!AL$6:AL$255))>0))/SUMPRODUCT(--(((Työmaakoneet!AJ$6:AJ$255)+(Työmaakoneet!AK$6:AK$255)+(Työmaakoneet!AL$6:AL$255))>0)),0)} -> 0 | R10: {=IFERROR(SUMPRODUCT(--(((LEFT(Työmaakoneet!$H$6:$H$255,5)="Sähkö")+(LEFT(Työmaakoneet!$H$6:$H$255,8)="Biokaasu")+(LEFT(Työmaakoneet!$H$6:$H$255,4)="Vety"))>0),--(((Työmaakoneet!AM$6:AM$255)+(Työmaakoneet!AN$6:AN$255)+(Työmaakoneet!AO$6:AO$255))>0))/SUMPRODUCT(--(((Työmaakoneet!AM$6:AM$255)+(Työmaakoneet!AN$6:AN$255)+(Työmaakoneet!AO$6:AO$255))>0)),0)} -> 0 | S10: {=IFERROR(SUMPRODUCT(--(((LEFT(Työmaakoneet!$H$6:$H$255,5)="Sähkö")+(LEFT(Työmaakoneet!$H$6:$H$255,8)="Biokaasu")+(LEFT(Työmaakoneet!$H$6:$H$255,4)="Vety"))>0),--(((Työmaakoneet!AP$6:AP$255)+(Työmaakoneet!AQ$6:AQ$255)+(Työmaakoneet!AR$6:AR$255))>0))/SUMPRODUCT(--(((Työmaakoneet!AP$6:AP$255)+(Työmaakoneet!AQ$6:AQ$255)+(Työmaakoneet!AR$6:AR$255))>0)),0)} -> 0 | T10: {=IFERROR(SUMPRODUCT(--(((LEFT(Työmaakoneet!$H$6:$H$255,5)="Sähkö")+(LEFT(Työmaakoneet!$H$6:$H$255,8)="Biokaasu")+(LEFT(Työmaakoneet!$H$6:$H$255,4)="Vety"))>0),--(((Työmaakoneet!AS$6:AS$255)+(Työmaakoneet!AT$6:AT$255)+(Työmaakoneet!AU$6:AU$255))>0))/SUMPRODUCT(--(((Työmaakoneet!AS$6:AS$255)+(Työmaakoneet!AT$6:AT$255)+(Työmaakoneet!AU$6:AU$255))>0)),0)} -> 0
B12: Raskas kuljetuskalusto (sisäiset kuljetukset) | C12: Yhteensä kulunut vuosi | D12: Yhteensä edellisten vuosien toteuma | E12: Yhteensä projektin kumulatiivinen toteuma | H12: Raskas kuljetuskalusto (sisäiset kuljetukset) | I12: Tammikuu | J12: Helmikuu | K12: Maaliskuu | L12: Huhtikuu | M12: Toukokuu | N12: Kesäkuu | O12: Heinäkuu | P12: Elokuu | Q12: Syyskuu | R12: Lokakuu | S12: Marraskuu | T12: Joulukuu
B13: Sähkö-, vety ja biokaasukäyttöisten työkoneiden käyttötunnit (h) | C13: =SUM(I13:T13) -> 0 | E13: =SUM(C13+D13) -> 0 | H13: Sähkö-, vety ja biokaasukäyttöisten työkoneiden käyttötunnit (h) | I13: =SUMIFS(Kuljetuskalusto!M$6:M$255,Kuljetuskalusto!$I$6:$I$255,"Sisäinen") -> 0 | J13: =SUMIFS(Kuljetuskalusto!P$6:P$255,Kuljetuskalusto!$I$6:$I$255,"Sisäinen") -> 0 | K13: =SUMIFS(Kuljetuskalusto!S$6:S$255,Kuljetuskalusto!$I$6:$I$255,"Sisäinen") -> 0 | L13: =SUMIFS(Kuljetuskalusto!V$6:V$255,Kuljetuskalusto!$I$6:$I$255,"Sisäinen") -> 0 | M13: =SUMIFS(Kuljetuskalusto!Y$6:Y$255,Kuljetuskalusto!$I$6:$I$255,"Sisäinen") -> 0 | N13: =SUMIFS(Kuljetuskalusto!AB$6:AB$255,Kuljetuskalusto!$I$6:$I$255,"Sisäinen") -> 0 | O13: =SUMIFS(Kuljetuskalusto!AE$6:AE$255,Kuljetuskalusto!$I$6:$I$255,"Sisäinen") -> 0 | P13: =SUMIFS(Kuljetuskalusto!AH$6:AH$255,Kuljetuskalusto!$I$6:$I$255,"Sisäinen") -> 0 | Q13: =SUMIFS(Kuljetuskalusto!AK$6:AK$255,Kuljetuskalusto!$I$6:$I$255,"Sisäinen") -> 0 | R13: =SUMIFS(Kuljetuskalusto!AN$6:AN$255,Kuljetuskalusto!$I$6:$I$255,"Sisäinen") -> 0 | S13: =SUMIFS(Kuljetuskalusto!AQ$6:AQ$255,Kuljetuskalusto!$I$6:$I$255,"Sisäinen") -> 0 | T13: =SUMIFS(Kuljetuskalusto!AT$6:AT$255,Kuljetuskalusto!$I$6:$I$255,"Sisäinen") -> 0
B14: Uusiutuva polttoaine (l) | C14: =SUM(I14:T14) -> 0 | E14: =SUM(C14+D14) -> 0 | H14: Uusiutuva polttoaine (l) | I14: =SUMIFS(Kuljetuskalusto!N$6:N$255,Kuljetuskalusto!$I$6:$I$255,"Sisäinen") -> 0 | J14: =SUMIFS(Kuljetuskalusto!Q$6:Q$255,Kuljetuskalusto!$I$6:$I$255,"Sisäinen") -> 0 | K14: =SUMIFS(Kuljetuskalusto!T$6:T$255,Kuljetuskalusto!$I$6:$I$255,"Sisäinen") -> 0 | L14: =SUMIFS(Kuljetuskalusto!W$6:W$255,Kuljetuskalusto!$I$6:$I$255,"Sisäinen") -> 0 | M14: =SUMIFS(Kuljetuskalusto!Z$6:Z$255,Kuljetuskalusto!$I$6:$I$255,"Sisäinen") -> 0 | N14: =SUMIFS(Kuljetuskalusto!AC$6:AC$255,Kuljetuskalusto!$I$6:$I$255,"Sisäinen") -> 0 | O14: =SUMIFS(Kuljetuskalusto!AF$6:AF$255,Kuljetuskalusto!$I$6:$I$255,"Sisäinen") -> 0 | P14: =SUMIFS(Kuljetuskalusto!AI$6:AI$255,Kuljetuskalusto!$I$6:$I$255,"Sisäinen") -> 0 | Q14: =SUMIFS(Kuljetuskalusto!AL$6:AL$255,Kuljetuskalusto!$I$6:$I$255,"Sisäinen") -> 0 | R14: =SUMIFS(Kuljetuskalusto!AO$6:AO$255,Kuljetuskalusto!$I$6:$I$255,"Sisäinen") -> 0 | S14: =SUMIFS(Kuljetuskalusto!AR$6:AR$255,Kuljetuskalusto!$I$6:$I$255,"Sisäinen") -> 0 | T14: =SUMIFS(Kuljetuskalusto!AU$6:AU$255,Kuljetuskalusto!$I$6:$I$255,"Sisäinen") -> 0
B15: Fossiilinen polttoaine (l) | C15: =SUM(I15:T15) -> 0 | E15: =C15+D15 -> 0 | H15: Fossiilinen polttoaine (l) | I15: =SUMIFS(Kuljetuskalusto!O$6:O$255,Kuljetuskalusto!$I$6:$I$255,"Sisäinen") -> 0 | J15: =SUMIFS(Kuljetuskalusto!R$6:R$255,Kuljetuskalusto!$I$6:$I$255,"Sisäinen") -> 0 | K15: =SUMIFS(Kuljetuskalusto!U$6:U$255,Kuljetuskalusto!$I$6:$I$255,"Sisäinen") -> 0 | L15: =SUMIFS(Kuljetuskalusto!X$6:X$255,Kuljetuskalusto!$I$6:$I$255,"Sisäinen") -> 0 | M15: =SUMIFS(Kuljetuskalusto!AA$6:AA$255,Kuljetuskalusto!$I$6:$I$255,"Sisäinen") -> 0 | N15: =SUMIFS(Kuljetuskalusto!AD$6:AD$255,Kuljetuskalusto!$I$6:$I$255,"Sisäinen") -> 0 | O15: =SUMIFS(Kuljetuskalusto!AG$6:AG$255,Kuljetuskalusto!$I$6:$I$255,"Sisäinen") -> 0 | P15: =SUMIFS(Kuljetuskalusto!AJ$6:AJ$255,Kuljetuskalusto!$I$6:$I$255,"Sisäinen") -> 0 | Q15: =SUMIFS(Kuljetuskalusto!AM$6:AM$255,Kuljetuskalusto!$I$6:$I$255,"Sisäinen") -> 0 | R15: =SUMIFS(Kuljetuskalusto!AP$6:AP$255,Kuljetuskalusto!$I$6:$I$255,"Sisäinen") -> 0 | S15: =SUMIFS(Kuljetuskalusto!AS$6:AS$255,Kuljetuskalusto!$I$6:$I$255,"Sisäinen") -> 0 | T15: =SUMIFS(Kuljetuskalusto!AV$6:AV$255,Kuljetuskalusto!$I$6:$I$255,"Sisäinen") -> 0
B16: Sähkö-, vety ja biokaasukäyttöisten kuljetuskaluston % osuus kpl määrästä | C16: {=IFERROR(SUMPRODUCT(--(((LEFT(Kuljetuskalusto!$H$6:$H$255,5)="Sähkö")+(LEFT(Kuljetuskalusto!$H$6:$H$255,8)="Biokaasu")+(LEFT(Kuljetuskalusto!$H$6:$H$255,4)="Vety"))>0),--(Kuljetuskalusto!$I$6:$I$255="Sisäinen"),--(((Kuljetuskalusto!$AW$6:$AW$255)+(Kuljetuskalusto!$AX$6:$AX$255)+(Kuljetuskalusto!$AY$6:$AY$255))>0))/SUMPRODUCT(--(Kuljetuskalusto!$I$6:$I$255="Sisäinen"),--(((Kuljetuskalusto!$AW$6:$AW$255)+(Kuljetuskalusto!$AX$6:$AX$255)+(Kuljetuskalusto!$AY$6:$AY$255))>0)),0)} -> 0 | E16: =AVERAGE(C16:D16) -> 0 | H16: Sähkö-, vety ja biokaasukäyttöisten kuljetuskaluston % osuus kpl määrästä | I16: {=IFERROR(SUMPRODUCT(--(((LEFT(Kuljetuskalusto!$H$6:$H$255,5)="Sähkö")+(LEFT(Kuljetuskalusto!$H$6:$H$255,8)="Biokaasu")+(LEFT(Kuljetuskalusto!$H$6:$H$255,4)="Vety"))>0),--(Kuljetuskalusto!$I$6:$I$255="Sisäinen"),--(((Kuljetuskalusto!M$6:M$255)+(Kuljetuskalusto!N$6:N$255)+(Kuljetuskalusto!O$6:O$255))>0))/SUMPRODUCT(--(Kuljetuskalusto!$I$6:$I$255="Sisäinen"),--(((Kuljetuskalusto!M$6:M$255)+(Kuljetuskalusto!N$6:N$255)+(Kuljetuskalusto!O$6:O$255))>0)),0)} -> 0 | J16: {=IFERROR(SUMPRODUCT(--(((LEFT(Kuljetuskalusto!$H$6:$H$255,5)="Sähkö")+(LEFT(Kuljetuskalusto!$H$6:$H$255,8)="Biokaasu")+(LEFT(Kuljetuskalusto!$H$6:$H$255,4)="Vety"))>0),--(Kuljetuskalusto!$I$6:$I$255="Sisäinen"),--(((Kuljetuskalusto!P$6:P$255)+(Kuljetuskalusto!Q$6:Q$255)+(Kuljetuskalusto!R$6:R$255))>0))/SUMPRODUCT(--(Kuljetuskalusto!$I$6:$I$255="Sisäinen"),--(((Kuljetuskalusto!P$6:P$255)+(Kuljetuskalusto!Q$6:Q$255)+(Kuljetuskalusto!R$6:R$255))>0)),0)} -> 0 | K16: {=IFERROR(SUMPRODUCT(--(((LEFT(Kuljetuskalusto!$H$6:$H$255,5)="Sähkö")+(LEFT(Kuljetuskalusto!$H$6:$H$255,8)="Biokaasu")+(LEFT(Kuljetuskalusto!$H$6:$H$255,4)="Vety"))>0),--(Kuljetuskalusto!$I$6:$I$255="Sisäinen"),--(((Kuljetuskalusto!S$6:S$255)+(Kuljetuskalusto!T$6:T$255)+(Kuljetuskalusto!U$6:U$255))>0))/SUMPRODUCT(--(Kuljetuskalusto!$I$6:$I$255="Sisäinen"),--(((Kuljetuskalusto!S$6:S$255)+(Kuljetuskalusto!T$6:T$255)+(Kuljetuskalusto!U$6:U$255))>0)),0)} -> 0 | L16: {=IFERROR(SUMPRODUCT(--(((LEFT(Kuljetuskalusto!$H$6:$H$255,5)="Sähkö")+(LEFT(Kuljetuskalusto!$H$6:$H$255,8)="Biokaasu")+(LEFT(Kuljetuskalusto!$H$6:$H$255,4)="Vety"))>0),--(Kuljetuskalusto!$I$6:$I$255="Sisäinen"),--(((Kuljetuskalusto!V$6:V$255)+(Kuljetuskalusto!W$6:W$255)+(Kuljetuskalusto!X$6:X$255))>0))/SUMPRODUCT(--(Kuljetuskalusto!$I$6:$I$255="Sisäinen"),--(((Kuljetuskalusto!V$6:V$255)+(Kuljetuskalusto!W$6:W$255)+(Kuljetuskalusto!X$6:X$255))>0)),0)} -> 0 | M16: {=IFERROR(SUMPRODUCT(--(((LEFT(Kuljetuskalusto!$H$6:$H$255,5)="Sähkö")+(LEFT(Kuljetuskalusto!$H$6:$H$255,8)="Biokaasu")+(LEFT(Kuljetuskalusto!$H$6:$H$255,4)="Vety"))>0),--(Kuljetuskalusto!$I$6:$I$255="Sisäinen"),--(((Kuljetuskalusto!Y$6:Y$255)+(Kuljetuskalusto!Z$6:Z$255)+(Kuljetuskalusto!AA$6:AA$255))>0))/SUMPRODUCT(--(Kuljetuskalusto!$I$6:$I$255="Sisäinen"),--(((Kuljetuskalusto!Y$6:Y$255)+(Kuljetuskalusto!Z$6:Z$255)+(Kuljetuskalusto!AA$6:AA$255))>0)),0)} -> 0 | N16: {=IFERROR(SUMPRODUCT(--(((LEFT(Kuljetuskalusto!$H$6:$H$255,5)="Sähkö")+(LEFT(Kuljetuskalusto!$H$6:$H$255,8)="Biokaasu")+(LEFT(Kuljetuskalusto!$H$6:$H$255,4)="Vety"))>0),--(Kuljetuskalusto!$I$6:$I$255="Sisäinen"),--(((Kuljetuskalusto!AB$6:AB$255)+(Kuljetuskalusto!AC$6:AC$255)+(Kuljetuskalusto!AD$6:AD$255))>0))/SUMPRODUCT(--(Kuljetuskalusto!$I$6:$I$255="Sisäinen"),--(((Kuljetuskalusto!AB$6:AB$255)+(Kuljetuskalusto!AC$6:AC$255)+(Kuljetuskalusto!AD$6:AD$255))>0)),0)} -> 0 | O16: {=IFERROR(SUMPRODUCT(--(((LEFT(Kuljetuskalusto!$H$6:$H$255,5)="Sähkö")+(LEFT(Kuljetuskalusto!$H$6:$H$255,8)="Biokaasu")+(LEFT(Kuljetuskalusto!$H$6:$H$255,4)="Vety"))>0),--(Kuljetuskalusto!$I$6:$I$255="Sisäinen"),--(((Kuljetuskalusto!AE$6:AE$255)+(Kuljetuskalusto!AF$6:AF$255)+(Kuljetuskalusto!AG$6:AG$255))>0))/SUMPRODUCT(--(Kuljetuskalusto!$I$6:$I$255="Sisäinen"),--(((Kuljetuskalusto!AE$6:AE$255)+(Kuljetuskalusto!AF$6:AF$255)+(Kuljetuskalusto!AG$6:AG$255))>0)),0)} -> 0 | P16: {=IFERROR(SUMPRODUCT(--(((LEFT(Kuljetuskalusto!$H$6:$H$255,5)="Sähkö")+(LEFT(Kuljetuskalusto!$H$6:$H$255,8)="Biokaasu")+(LEFT(Kuljetuskalusto!$H$6:$H$255,4)="Vety"))>0),--(Kuljetuskalusto!$I$6:$I$255="Sisäinen"),--(((Kuljetuskalusto!AH$6:AH$255)+(Kuljetuskalusto!AI$6:AI$255)+(Kuljetuskalusto!AJ$6:AJ$255))>0))/SUMPRODUCT(--(Kuljetuskalusto!$I$6:$I$255="Sisäinen"),--(((Kuljetuskalusto!AH$6:AH$255)+(Kuljetuskalusto!AI$6:AI$255)+(Kuljetuskalusto!AJ$6:AJ$255))>0)),0)} -> 0 | Q16: {=IFERROR(SUMPRODUCT(--(((LEFT(Kuljetuskalusto!$H$6:$H$255,5)="Sähkö")+(LEFT(Kuljetuskalusto!$H$6:$H$255,8)="Biokaasu")+(LEFT(Kuljetuskalusto!$H$6:$H$255,4)="Vety"))>0),--(Kuljetuskalusto!$I$6:$I$255="Sisäinen"),--(((Kuljetuskalusto!AK$6:AK$255)+(Kuljetuskalusto!AL$6:AL$255)+(Kuljetuskalusto!AM$6:AM$255))>0))/SUMPRODUCT(--(Kuljetuskalusto!$I$6:$I$255="Sisäinen"),--(((Kuljetuskalusto!AK$6:AK$255)+(Kuljetuskalusto!AL$6:AL$255)+(Kuljetuskalusto!AM$6:AM$255))>0)),0)} -> 0 | R16: {=IFERROR(SUMPRODUCT(--(((LEFT(Kuljetuskalusto!$H$6:$H$255,5)="Sähkö")+(LEFT(Kuljetuskalusto!$H$6:$H$255,8)="Biokaasu")+(LEFT(Kuljetuskalusto!$H$6:$H$255,4)="Vety"))>0),--(Kuljetuskalusto!$I$6:$I$255="Sisäinen"),--(((Kuljetuskalusto!AN$6:AN$255)+(Kuljetuskalusto!AO$6:AO$255)+(Kuljetuskalusto!AP$6:AP$255))>0))/SUMPRODUCT(--(Kuljetuskalusto!$I$6:$I$255="Sisäinen"),--(((Kuljetuskalusto!AN$6:AN$255)+(Kuljetuskalusto!AO$6:AO$255)+(Kuljetuskalusto!AP$6:AP$255))>0)),0)} -> 0 | S16: {=IFERROR(SUMPRODUCT(--(((LEFT(Kuljetuskalusto!$H$6:$H$255,5)="Sähkö")+(LEFT(Kuljetuskalusto!$H$6:$H$255,8)="Biokaasu")+(LEFT(Kuljetuskalusto!$H$6:$H$255,4)="Vety"))>0),--(Kuljetuskalusto!$I$6:$I$255="Sisäinen"),--(((Kuljetuskalusto!AQ$6:AQ$255)+(Kuljetuskalusto!AR$6:AR$255)+(Kuljetuskalusto!AS$6:AS$255))>0))/SUMPRODUCT(--(Kuljetuskalusto!$I$6:$I$255="Sisäinen"),--(((Kuljetuskalusto!AQ$6:AQ$255)+(Kuljetuskalusto!AR$6:AR$255)+(Kuljetuskalusto!AS$6:AS$255))>0)),0)} -> 0 | T16: {=IFERROR(SUMPRODUCT(--(((LEFT(Kuljetuskalusto!$H$6:$H$255,5)="Sähkö")+(LEFT(Kuljetuskalusto!$H$6:$H$255,8)="Biokaasu")+(LEFT(Kuljetuskalusto!$H$6:$H$255,4)="Vety"))>0),--(Kuljetuskalusto!$I$6:$I$255="Sisäinen"),--(((Kuljetuskalusto!AT$6:AT$255)+(Kuljetuskalusto!AU$6:AU$255)+(Kuljetuskalusto!AV$6:AV$255))>0))/SUMPRODUCT(--(Kuljetuskalusto!$I$6:$I$255="Sisäinen"),--(((Kuljetuskalusto!AT$6:AT$255)+(Kuljetuskalusto!AU$6:AU$255)+(Kuljetuskalusto!AV$6:AV$255))>0)),0)} -> 0
B18: Raskas kuljetuskalusto (sovitut ulkoiset kuljetukset) | C18: Yhteensä kulunut vuosi | D18: Yhteensä edellisten vuosien toteuma | E18: Yhteensä projektin kumulatiivinen toteuma | H18: Raskas kuljetuskalusto (sovitut ulkoiset kuljetukset) | I18: Tammikuu | J18: Helmikuu | K18: Maaliskuu | L18: Huhtikuu | M18: Toukokuu | N18: Kesäkuu | O18: Heinäkuu | P18: Elokuu | Q18: Syyskuu | R18: Lokakuu | S18: Marraskuu | T18: Joulukuu
B19: Sähkö-, vety ja biokaasukäyttöisten työkoneiden käyttötunnit (h) | C19: =SUM(I19:T19) -> 0 | E19: =SUM(C19+D19) -> 0 | H19: Sähkö-, vety ja biokaasukäyttöisten työkoneiden käyttötunnit (h) | I19: =SUMIFS(Kuljetuskalusto!M$6:M$255,Kuljetuskalusto!$I$6:$I$255,"Ulkoinen") -> 0 | J19: =SUMIFS(Kuljetuskalusto!P$6:P$255,Kuljetuskalusto!$I$6:$I$255,"Ulkoinen") -> 0 | K19: =SUMIFS(Kuljetuskalusto!S$6:S$255,Kuljetuskalusto!$I$6:$I$255,"Ulkoinen") -> 0 | L19: =SUMIFS(Kuljetuskalusto!V$6:V$255,Kuljetuskalusto!$I$6:$I$255,"Ulkoinen") -> 0 | M19: =SUMIFS(Kuljetuskalusto!Y$6:Y$255,Kuljetuskalusto!$I$6:$I$255,"Ulkoinen") -> 0 | N19: =SUMIFS(Kuljetuskalusto!AB$6:AB$255,Kuljetuskalusto!$I$6:$I$255,"Ulkoinen") -> 0 | O19: =SUMIFS(Kuljetuskalusto!AE$6:AE$255,Kuljetuskalusto!$I$6:$I$255,"Ulkoinen") -> 0 | P19: =SUMIFS(Kuljetuskalusto!AH$6:AH$255,Kuljetuskalusto!$I$6:$I$255,"Ulkoinen") -> 0 | Q19: =SUMIFS(Kuljetuskalusto!AK$6:AK$255,Kuljetuskalusto!$I$6:$I$255,"Ulkoinen") -> 0 | R19: =SUMIFS(Kuljetuskalusto!AN$6:AN$255,Kuljetuskalusto!$I$6:$I$255,"Ulkoinen") -> 0 | S19: =SUMIFS(Kuljetuskalusto!AQ$6:AQ$255,Kuljetuskalusto!$I$6:$I$255,"Ulkoinen") -> 0 | T19: =SUMIFS(Kuljetuskalusto!AT$6:AT$255,Kuljetuskalusto!$I$6:$I$255,"Ulkoinen") -> 0
B20: Uusiutuva polttoaine (l) | C20: =SUM(I20:T20) -> 0 | E20: =SUM(C20+D20) -> 0 | H20: Uusiutuva polttoaine (l) | I20: =SUMIFS(Kuljetuskalusto!N$6:N$255,Kuljetuskalusto!$I$6:$I$255,"Ulkoinen") -> 0 | J20: =SUMIFS(Kuljetuskalusto!Q$6:Q$255,Kuljetuskalusto!$I$6:$I$255,"Ulkoinen") -> 0 | K20: =SUMIFS(Kuljetuskalusto!T$6:T$255,Kuljetuskalusto!$I$6:$I$255,"Ulkoinen") -> 0 | L20: =SUMIFS(Kuljetuskalusto!W$6:W$255,Kuljetuskalusto!$I$6:$I$255,"Ulkoinen") -> 0 | M20: =SUMIFS(Kuljetuskalusto!Z$6:Z$255,Kuljetuskalusto!$I$6:$I$255,"Ulkoinen") -> 0 | N20: =SUMIFS(Kuljetuskalusto!AC$6:AC$255,Kuljetuskalusto!$I$6:$I$255,"Ulkoinen") -> 0 | O20: =SUMIFS(Kuljetuskalusto!AF$6:AF$255,Kuljetuskalusto!$I$6:$I$255,"Ulkoinen") -> 0 | P20: =SUMIFS(Kuljetuskalusto!AI$6:AI$255,Kuljetuskalusto!$I$6:$I$255,"Ulkoinen") -> 0 | Q20: =SUMIFS(Kuljetuskalusto!AL$6:AL$255,Kuljetuskalusto!$I$6:$I$255,"Ulkoinen") -> 0 | R20: =SUMIFS(Kuljetuskalusto!AO$6:AO$255,Kuljetuskalusto!$I$6:$I$255,"Ulkoinen") -> 0 | S20: =SUMIFS(Kuljetuskalusto!AR$6:AR$255,Kuljetuskalusto!$I$6:$I$255,"Ulkoinen") -> 0 | T20: =SUMIFS(Kuljetuskalusto!AU$6:AU$255,Kuljetuskalusto!$I$6:$I$255,"Ulkoinen") -> 0
B21: Fossiilinen polttoaine (l) | C21: =SUM(I21:T21) -> 0 | E21: =C21+D21 -> 0 | H21: Fossiilinen polttoaine (l) | I21: =SUMIFS(Kuljetuskalusto!O$6:O$255,Kuljetuskalusto!$I$6:$I$255,"Ulkoinen") -> 0 | J21: =SUMIFS(Kuljetuskalusto!R$6:R$255,Kuljetuskalusto!$I$6:$I$255,"Ulkoinen") -> 0 | K21: =SUMIFS(Kuljetuskalusto!U$6:U$255,Kuljetuskalusto!$I$6:$I$255,"Ulkoinen") -> 0 | L21: =SUMIFS(Kuljetuskalusto!X$6:X$255,Kuljetuskalusto!$I$6:$I$255,"Ulkoinen") -> 0 | M21: =SUMIFS(Kuljetuskalusto!AA$6:AA$255,Kuljetuskalusto!$I$6:$I$255,"Ulkoinen") -> 0 | N21: =SUMIFS(Kuljetuskalusto!AD$6:AD$255,Kuljetuskalusto!$I$6:$I$255,"Ulkoinen") -> 0 | O21: =SUMIFS(Kuljetuskalusto!AG$6:AG$255,Kuljetuskalusto!$I$6:$I$255,"Ulkoinen") -> 0 | P21: =SUMIFS(Kuljetuskalusto!AJ$6:AJ$255,Kuljetuskalusto!$I$6:$I$255,"Ulkoinen") -> 0 | Q21: =SUMIFS(Kuljetuskalusto!AM$6:AM$255,Kuljetuskalusto!$I$6:$I$255,"Ulkoinen") -> 0 | R21: =SUMIFS(Kuljetuskalusto!AP$6:AP$255,Kuljetuskalusto!$I$6:$I$255,"Ulkoinen") -> 0 | S21: =SUMIFS(Kuljetuskalusto!AS$6:AS$255,Kuljetuskalusto!$I$6:$I$255,"Ulkoinen") -> 0 | T21: =SUMIFS(Kuljetuskalusto!AV$6:AV$255,Kuljetuskalusto!$I$6:$I$255,"Ulkoinen") -> 0
B22: Sähkö-, vety ja biokaasukäyttöisten kuljetuskaluston % osuus kpl määrästä | C22: {=IFERROR(SUMPRODUCT(--(((LEFT(Kuljetuskalusto!$H$6:$H$255,5)="Sähkö")+(LEFT(Kuljetuskalusto!$H$6:$H$255,8)="Biokaasu")+(LEFT(Kuljetuskalusto!$H$6:$H$255,4)="Vety"))>0),--(Kuljetuskalusto!$I$6:$I$255="Ulkoinen"),--(((Kuljetuskalusto!$AW$6:$AW$255)+(Kuljetuskalusto!$AX$6:$AX$255)+(Kuljetuskalusto!$AY$6:$AY$255))>0))/SUMPRODUCT(--(Kuljetuskalusto!$I$6:$I$255="Ulkoinen"),--(((Kuljetuskalusto!$AW$6:$AW$255)+(Kuljetuskalusto!$AX$6:$AX$255)+(Kuljetuskalusto!$AY$6:$AY$255))>0)),0)} -> 0 | E22: =AVERAGE(C22:D22) -> 0 | H22: Sähkö-, vety ja biokaasukäyttöisten kuljetuskaluston % osuus kpl määrästä | I22: {=IFERROR(SUMPRODUCT(--(((LEFT(Kuljetuskalusto!$H$6:$H$255,5)="Sähkö")+(LEFT(Kuljetuskalusto!$H$6:$H$255,8)="Biokaasu")+(LEFT(Kuljetuskalusto!$H$6:$H$255,4)="Vety"))>0),--(Kuljetuskalusto!$I$6:$I$255="Ulkoinen"),--(((Kuljetuskalusto!M$6:M$255)+(Kuljetuskalusto!N$6:N$255)+(Kuljetuskalusto!O$6:O$255))>0))/SUMPRODUCT(--(Kuljetuskalusto!$I$6:$I$255="Ulkoinen"),--(((Kuljetuskalusto!M$6:M$255)+(Kuljetuskalusto!N$6:N$255)+(Kuljetuskalusto!O$6:O$255))>0)),0)} -> 0 | J22: {=IFERROR(SUMPRODUCT(--(((LEFT(Kuljetuskalusto!$H$6:$H$255,5)="Sähkö")+(LEFT(Kuljetuskalusto!$H$6:$H$255,8)="Biokaasu")+(LEFT(Kuljetuskalusto!$H$6:$H$255,4)="Vety"))>0),--(Kuljetuskalusto!$I$6:$I$255="Ulkoinen"),--(((Kuljetuskalusto!P$6:P$255)+(Kuljetuskalusto!Q$6:Q$255)+(Kuljetuskalusto!R$6:R$255))>0))/SUMPRODUCT(--(Kuljetuskalusto!$I$6:$I$255="Ulkoinen"),--(((Kuljetuskalusto!P$6:P$255)+(Kuljetuskalusto!Q$6:Q$255)+(Kuljetuskalusto!R$6:R$255))>0)),0)} -> 0 | K22: {=IFERROR(SUMPRODUCT(--(((LEFT(Kuljetuskalusto!$H$6:$H$255,5)="Sähkö")+(LEFT(Kuljetuskalusto!$H$6:$H$255,8)="Biokaasu")+(LEFT(Kuljetuskalusto!$H$6:$H$255,4)="Vety"))>0),--(Kuljetuskalusto!$I$6:$I$255="Ulkoinen"),--(((Kuljetuskalusto!S$6:S$255)+(Kuljetuskalusto!T$6:T$255)+(Kuljetuskalusto!U$6:U$255))>0))/SUMPRODUCT(--(Kuljetuskalusto!$I$6:$I$255="Ulkoinen"),--(((Kuljetuskalusto!S$6:S$255)+(Kuljetuskalusto!T$6:T$255)+(Kuljetuskalusto!U$6:U$255))>0)),0)} -> 0 | L22: {=IFERROR(SUMPRODUCT(--(((LEFT(Kuljetuskalusto!$H$6:$H$255,5)="Sähkö")+(LEFT(Kuljetuskalusto!$H$6:$H$255,8)="Biokaasu")+(LEFT(Kuljetuskalusto!$H$6:$H$255,4)="Vety"))>0),--(Kuljetuskalusto!$I$6:$I$255="Ulkoinen"),--(((Kuljetuskalusto!V$6:V$255)+(Kuljetuskalusto!W$6:W$255)+(Kuljetuskalusto!X$6:X$255))>0))/SUMPRODUCT(--(Kuljetuskalusto!$I$6:$I$255="Ulkoinen"),--(((Kuljetuskalusto!V$6:V$255)+(Kuljetuskalusto!W$6:W$255)+(Kuljetuskalusto!X$6:X$255))>0)),0)} -> 0 | M22: {=IFERROR(SUMPRODUCT(--(((LEFT(Kuljetuskalusto!$H$6:$H$255,5)="Sähkö")+(LEFT(Kuljetuskalusto!$H$6:$H$255,8)="Biokaasu")+(LEFT(Kuljetuskalusto!$H$6:$H$255,4)="Vety"))>0),--(Kuljetuskalusto!$I$6:$I$255="Ulkoinen"),--(((Kuljetuskalusto!Y$6:Y$255)+(Kuljetuskalusto!Z$6:Z$255)+(Kuljetuskalusto!AA$6:AA$255))>0))/SUMPRODUCT(--(Kuljetuskalusto!$I$6:$I$255="Ulkoinen"),--(((Kuljetuskalusto!Y$6:Y$255)+(Kuljetuskalusto!Z$6:Z$255)+(Kuljetuskalusto!AA$6:AA$255))>0)),0)} -> 0 | N22: {=IFERROR(SUMPRODUCT(--(((LEFT(Kuljetuskalusto!$H$6:$H$255,5)="Sähkö")+(LEFT(Kuljetuskalusto!$H$6:$H$255,8)="Biokaasu")+(LEFT(Kuljetuskalusto!$H$6:$H$255,4)="Vety"))>0),--(Kuljetuskalusto!$I$6:$I$255="Ulkoinen"),--(((Kuljetuskalusto!AB$6:AB$255)+(Kuljetuskalusto!AC$6:AC$255)+(Kuljetuskalusto!AD$6:AD$255))>0))/SUMPRODUCT(--(Kuljetuskalusto!$I$6:$I$255="Ulkoinen"),--(((Kuljetuskalusto!AB$6:AB$255)+(Kuljetuskalusto!AC$6:AC$255)+(Kuljetuskalusto!AD$6:AD$255))>0)),0)} -> 0 | O22: {=IFERROR(SUMPRODUCT(--(((LEFT(Kuljetuskalusto!$H$6:$H$255,5)="Sähkö")+(LEFT(Kuljetuskalusto!$H$6:$H$255,8)="Biokaasu")+(LEFT(Kuljetuskalusto!$H$6:$H$255,4)="Vety"))>0),--(Kuljetuskalusto!$I$6:$I$255="Ulkoinen"),--(((Kuljetuskalusto!AE$6:AE$255)+(Kuljetuskalusto!AF$6:AF$255)+(Kuljetuskalusto!AG$6:AG$255))>0))/SUMPRODUCT(--(Kuljetuskalusto!$I$6:$I$255="Ulkoinen"),--(((Kuljetuskalusto!AE$6:AE$255)+(Kuljetuskalusto!AF$6:AF$255)+(Kuljetuskalusto!AG$6:AG$255))>0)),0)} -> 0 | P22: {=IFERROR(SUMPRODUCT(--(((LEFT(Kuljetuskalusto!$H$6:$H$255,5)="Sähkö")+(LEFT(Kuljetuskalusto!$H$6:$H$255,8)="Biokaasu")+(LEFT(Kuljetuskalusto!$H$6:$H$255,4)="Vety"))>0),--(Kuljetuskalusto!$I$6:$I$255="Ulkoinen"),--(((Kuljetuskalusto!AH$6:AH$255)+(Kuljetuskalusto!AI$6:AI$255)+(Kuljetuskalusto!AJ$6:AJ$255))>0))/SUMPRODUCT(--(Kuljetuskalusto!$I$6:$I$255="Ulkoinen"),--(((Kuljetuskalusto!AH$6:AH$255)+(Kuljetuskalusto!AI$6:AI$255)+(Kuljetuskalusto!AJ$6:AJ$255))>0)),0)} -> 0 | Q22: {=IFERROR(SUMPRODUCT(--(((LEFT(Kuljetuskalusto!$H$6:$H$255,5)="Sähkö")+(LEFT(Kuljetuskalusto!$H$6:$H$255,8)="Biokaasu")+(LEFT(Kuljetuskalusto!$H$6:$H$255,4)="Vety"))>0),--(Kuljetuskalusto!$I$6:$I$255="Ulkoinen"),--(((Kuljetuskalusto!AK$6:AK$255)+(Kuljetuskalusto!AL$6:AL$255)+(Kuljetuskalusto!AM$6:AM$255))>0))/SUMPRODUCT(--(Kuljetuskalusto!$I$6:$I$255="Ulkoinen"),--(((Kuljetuskalusto!AK$6:AK$255)+(Kuljetuskalusto!AL$6:AL$255)+(Kuljetuskalusto!AM$6:AM$255))>0)),0)} -> 0 | R22: {=IFERROR(SUMPRODUCT(--(((LEFT(Kuljetuskalusto!$H$6:$H$255,5)="Sähkö")+(LEFT(Kuljetuskalusto!$H$6:$H$255,8)="Biokaasu")+(LEFT(Kuljetuskalusto!$H$6:$H$255,4)="Vety"))>0),--(Kuljetuskalusto!$I$6:$I$255="Ulkoinen"),--(((Kuljetuskalusto!AN$6:AN$255)+(Kuljetuskalusto!AO$6:AO$255)+(Kuljetuskalusto!AP$6:AP$255))>0))/SUMPRODUCT(--(Kuljetuskalusto!$I$6:$I$255="Ulkoinen"),--(((Kuljetuskalusto!AN$6:AN$255)+(Kuljetuskalusto!AO$6:AO$255)+(Kuljetuskalusto!AP$6:AP$255))>0)),0)} -> 0 | S22: {=IFERROR(SUMPRODUCT(--(((LEFT(Kuljetuskalusto!$H$6:$H$255,5)="Sähkö")+(LEFT(Kuljetuskalusto!$H$6:$H$255,8)="Biokaasu")+(LEFT(Kuljetuskalusto!$H$6:$H$255,4)="Vety"))>0),--(Kuljetuskalusto!$I$6:$I$255="Ulkoinen"),--(((Kuljetuskalusto!AQ$6:AQ$255)+(Kuljetuskalusto!AR$6:AR$255)+(Kuljetuskalusto!AS$6:AS$255))>0))/SUMPRODUCT(--(Kuljetuskalusto!$I$6:$I$255="Ulkoinen"),--(((Kuljetuskalusto!AQ$6:AQ$255)+(Kuljetuskalusto!AR$6:AR$255)+(Kuljetuskalusto!AS$6:AS$255))>0)),0)} -> 0 | T22: {=IFERROR(SUMPRODUCT(--(((LEFT(Kuljetuskalusto!$H$6:$H$255,5)="Sähkö")+(LEFT(Kuljetuskalusto!$H$6:$H$255,8)="Biokaasu")+(LEFT(Kuljetuskalusto!$H$6:$H$255,4)="Vety"))>0),--(Kuljetuskalusto!$I$6:$I$255="Ulkoinen"),--(((Kuljetuskalusto!AT$6:AT$255)+(Kuljetuskalusto!AU$6:AU$255)+(Kuljetuskalusto!AV$6:AV$255))>0))/SUMPRODUCT(--(Kuljetuskalusto!$I$6:$I$255="Ulkoinen"),--(((Kuljetuskalusto!AT$6:AT$255)+(Kuljetuskalusto!AU$6:AU$255)+(Kuljetuskalusto!AV$6:AV$255))>0)),0)} -> 0
B24: Ei sähkökäyttöiset pienkoneet (teho ≤4 kW) | C24: Yhteensä kulunut vuosi | D24: Yhteensä edellisten vuosien toteuma | E24: Yhteensä projektin kumulatiivinen toteuma | H24: Ei sähkökäyttöiset pienkoneet (teho ≤4 kW) | I24: Tammikuu | J24: Helmikuu | K24: Maaliskuu | L24: Huhtikuu | M24: Toukokuu | N24: Kesäkuu | O24: Heinäkuu | P24: Elokuu | Q24: Syyskuu | R24: Lokakuu | S24: Marraskuu | T24: Joulukuu
B25: Uusiutuva polttoaine (l) | C25: =SUM(I25:T25) -> 0 | E25: =SUM(C25+D25) -> 0 | H25: Uusiutuva polttoaine (l) | I25: =SUM(Pienkoneet!J6:J255) -> 0 | J25: =SUM(Pienkoneet!L6:L255) -> 0 | K25: =SUM(Pienkoneet!N6:N255) -> 0 | L25: =SUM(Pienkoneet!P6:P255) -> 0 | M25: =SUM(Pienkoneet!R6:R255) -> 0 | N25: =SUM(Pienkoneet!T6:T255) -> 0 | O25: =SUM(Pienkoneet!V6:V255) -> 0 | P25: =SUM(Pienkoneet!X6:X255) -> 0 | Q25: =SUM(Pienkoneet!Z6:Z255) -> 0 | R25: =SUM(Pienkoneet!AB6:AB255) -> 0 | S25: =SUM(Pienkoneet!AD6:AD255) -> 0 | T25: =SUM(Pienkoneet!AF6:AF255) -> 0
B26: Fossiilinen polttoaine (l) | C26: =SUM(I26:T26) -> 0 | E26: =SUM(C26:D26) -> 0 | H26: Fossiilinen polttoaine (l) | I26: =SUM(Pienkoneet!K6:K256) -> 0 | J26: =SUM(Pienkoneet!M6:M256) -> 0 | K26: =SUM(Pienkoneet!O6:O256) -> 0 | L26: =SUM(Pienkoneet!Q6:Q256) -> 0 | M26: =SUM(Pienkoneet!S6:S256) -> 0 | N26: =SUM(Pienkoneet!U6:U256) -> 0 | O26: =SUM(Pienkoneet!W6:W256) -> 0 | P26: =SUM(Pienkoneet!Y6:Y256) -> 0 | Q26: =SUM(Pienkoneet!AA6:AA256) -> 0 | R26: =SUM(Pienkoneet!AC6:AC256) -> 0 | S26: =SUM(Pienkoneet!AE6:AE256) -> 0 | T26: =SUM(Pienkoneet!AG6:AG256) -> 0
B28: Sähkön-, lämmön- ja vedenkulutus | C28: Yhteensä kulunut vuosi | D28: Yhteensä edellisten vuosien toteuma | E28: Yhteensä projektin kumulatiivinen toteuma | H28: Sähkön-, lämmön- ja vedenkulutus | I28: Tammikuu | J28: Helmikuu | K28: Maaliskuu | L28: Huhtikuu | M28: Toukokuu | N28: Kesäkuu | O28: Heinäkuu | P28: Elokuu | Q28: Syyskuu | R28: Lokakuu | S28: Marraskuu | T28: Joulukuu
B29: Sähkö (kWh): | C29: =SUM(I29:T29) -> 0 | E29: =SUM(C29+D29) -> 0 | H29: Sähkö (kWh): | I29: =SUM('Muut kulutustiedot'!B19) -> 0 | J29: =SUM('Muut kulutustiedot'!C19) -> 0 | K29: =SUM('Muut kulutustiedot'!D19) -> 0 | L29: =SUM('Muut kulutustiedot'!E19) -> 0 | M29: =SUM('Muut kulutustiedot'!F19) -> 0 | N29: =SUM('Muut kulutustiedot'!G19) -> 0 | O29: =SUM('Muut kulutustiedot'!H19) -> 0 | P29: =SUM('Muut kulutustiedot'!I19) -> 0 | ... T29: =SUM('Muut kulutustiedot'!M19) -> 0
B30: Lämpö (kWh): | C30: =SUM(I30:T30) -> 0 | E30: =SUM(C30+D30) -> 0 | H30: Lämpö (kWh): | I30: =SUM('Muut kulutustiedot'!B20) -> 0 | J30: =SUM('Muut kulutustiedot'!C20) -> 0 | K30: =SUM('Muut kulutustiedot'!D20) -> 0 | L30: =SUM('Muut kulutustiedot'!E20) -> 0 | M30: =SUM('Muut kulutustiedot'!F20) -> 0 | N30: =SUM('Muut kulutustiedot'!G20) -> 0 | O30: =SUM('Muut kulutustiedot'!H20) -> 0 | P30: =SUM('Muut kulutustiedot'!I20) -> 0 | ... T30: =SUM('Muut kulutustiedot'!M20) -> 0
B31: Vesi (m³): | C31: =SUM(I31:T31) -> 0 | E31: =SUM(C31+D31) -> 0 | H31: Vesi (m³): | I31: =SUM('Muut kulutustiedot'!B21) -> 0 | J31: =SUM('Muut kulutustiedot'!C21) -> 0 | K31: =SUM('Muut kulutustiedot'!D21) -> 0 | L31: =SUM('Muut kulutustiedot'!E21) -> 0 | M31: =SUM('Muut kulutustiedot'!F21) -> 0 | N31: =SUM('Muut kulutustiedot'!G21) -> 0 | O31: =SUM('Muut kulutustiedot'!H21) -> 0 | P31: =SUM('Muut kulutustiedot'!I21) -> 0 | ... T31: =SUM('Muut kulutustiedot'!M21) -> 0
B33: Työmaalle ostettu polttoaine (täytettävät polttoainesäiliöt jne.) | C33: Yhteensä kulunut vuosi | D33: Yhteensä edellisten vuosien toteuma | E33: Yhteensä projektin kumulatiivinen toteuma | H33: Työmaalle ostettu polttoaine (täytettävät polttoainesäiliöt jne.) | I33: Tammikuu | J33: Helmikuu | K33: Maaliskuu | L33: Huhtikuu | M33: Toukokuu | N33: Kesäkuu | O33: Heinäkuu | P33: Elokuu | Q33: Syyskuu | R33: Lokakuu | S33: Marraskuu | T33: Joulukuu
B34: Diesel (uusiutuva) (l) | C34: =SUM(I34:T34) -> 0 | E34: =SUM(C34+D34) -> 0 | H34: Diesel (uusiutuva) (l) | I34: =SUM('Muut kulutustiedot'!B8) -> 0 | J34: =SUM('Muut kulutustiedot'!C8) -> 0 | K34: =SUM('Muut kulutustiedot'!D8) -> 0 | L34: =SUM('Muut kulutustiedot'!E8) -> 0 | M34: =SUM('Muut kulutustiedot'!F8) -> 0 | N34: =SUM('Muut kulutustiedot'!G8) -> 0 | O34: =SUM('Muut kulutustiedot'!H8) -> 0 | P34: =SUM('Muut kulutustiedot'!I8) -> 0 | ... T34: =SUM('Muut kulutustiedot'!M8) -> 0
B35: Kevyt polttoöljy (uusiutuva) (l) | C35: =SUM(I35:T35) -> 0 | E35: =SUM(C35+D35) -> 0 | H35: Kevyt polttoöljy (uusiutuva) (l) | I35: =SUM('Muut kulutustiedot'!B9) -> 0 | J35: =SUM('Muut kulutustiedot'!C9) -> 0 | K35: =SUM('Muut kulutustiedot'!D9) -> 0 | L35: =SUM('Muut kulutustiedot'!E9) -> 0 | M35: =SUM('Muut kulutustiedot'!F9) -> 0 | N35: =SUM('Muut kulutustiedot'!G9) -> 0 | O35: =SUM('Muut kulutustiedot'!H9) -> 0 | P35: =SUM('Muut kulutustiedot'!I9) -> 0 | ... T35: =SUM('Muut kulutustiedot'!M9) -> 0
B36: Diesel (fossiilinen) (l) | C36: =SUM(I36:T36) -> 0 | E36: =SUM(C36+D36) -> 0 | H36: Diesel (fossiilinen) (l) | I36: =SUM('Muut kulutustiedot'!B10) -> 0 | J36: =SUM('Muut kulutustiedot'!C10) -> 0 | K36: =SUM('Muut kulutustiedot'!D10) -> 0 | L36: =SUM('Muut kulutustiedot'!E10) -> 0 | M36: =SUM('Muut kulutustiedot'!F10) -> 0 | N36: =SUM('Muut kulutustiedot'!G10) -> 0 | O36: =SUM('Muut kulutustiedot'!H10) -> 0 | P36: =SUM('Muut kulutustiedot'!I10) -> 0 | ... T36: =SUM('Muut kulutustiedot'!M10) -> 0
B37: Bensiini (fossiilinen) (l) | C37: =SUM(I37:T37) -> 0 | E37: =SUM(C37+D37) -> 0 | H37: Bensiini (fossiilinen) (l) | I37: =SUM('Muut kulutustiedot'!B11) -> 0 | J37: =SUM('Muut kulutustiedot'!C11) -> 0 | K37: =SUM('Muut kulutustiedot'!D11) -> 0 | L37: =SUM('Muut kulutustiedot'!E11) -> 0 | M37: =SUM('Muut kulutustiedot'!F11) -> 0 | N37: =SUM('Muut kulutustiedot'!G11) -> 0 | O37: =SUM('Muut kulutustiedot'!H11) -> 0 | P37: =SUM('Muut kulutustiedot'!I11) -> 0 | ... T37: =SUM('Muut kulutustiedot'!M11) -> 0
B38: Kevytpolttoöljy (fossiilinen) (l) | C38: =SUM(I38:T38) -> 0 | E38: =SUM(C38+D38) -> 0 | H38: Kevytpolttoöljy (fossiilinen) (l) | I38: =SUM('Muut kulutustiedot'!B12) -> 0 | J38: =SUM('Muut kulutustiedot'!C12) -> 0 | K38: =SUM('Muut kulutustiedot'!D12) -> 0 | L38: =SUM('Muut kulutustiedot'!E12) -> 0 | M38: =SUM('Muut kulutustiedot'!F12) -> 0 | N38: =SUM('Muut kulutustiedot'!G12) -> 0 | O38: =SUM('Muut kulutustiedot'!H12) -> 0 | P38: =SUM('Muut kulutustiedot'!I12) -> 0 | ... T38: =SUM('Muut kulutustiedot'!M12) -> 0
B39: Kaasu (fossiilinen) (kg) | C39: =SUM(I39:T39) -> 0 | E39: =SUM(C39+D39) -> 0 | H39: Kaasu (fossiilinen) (kg) | I39: =SUM('Muut kulutustiedot'!B13) -> 0 | J39: =SUM('Muut kulutustiedot'!C13) -> 0 | K39: =SUM('Muut kulutustiedot'!D13) -> 0 | L39: =SUM('Muut kulutustiedot'!E13) -> 0 | M39: =SUM('Muut kulutustiedot'!F13) -> 0 | N39: =SUM('Muut kulutustiedot'!G13) -> 0 | O39: =SUM('Muut kulutustiedot'!H13) -> 0 | P39: =SUM('Muut kulutustiedot'!I13) -> 0 | ... T39: =SUM('Muut kulutustiedot'!M13) -> 0
B40: Alkylaattibensiini (vähäpäästöinen) (l) | C40: =SUM(I40:T40) -> 0 | E40: =SUM(C40+D40) -> 0 | H40: Alkylaattibensiini (vähäpäästöinen) (l) | I40: =SUM('Muut kulutustiedot'!B14) -> 0 | J40: =SUM('Muut kulutustiedot'!C14) -> 0 | K40: =SUM('Muut kulutustiedot'!D14) -> 0 | L40: =SUM('Muut kulutustiedot'!E14) -> 0 | M40: =SUM('Muut kulutustiedot'!F14) -> 0 | N40: =SUM('Muut kulutustiedot'!G14) -> 0 | O40: =SUM('Muut kulutustiedot'!H14) -> 0 | P40: =SUM('Muut kulutustiedot'!I14) -> 0 | ... T40: =SUM('Muut kulutustiedot'!M14) -> 0
B41: ='Muut kulutustiedot'!A15 -> Muu polttoaine: polttoaineen nimi (l) | C41: =SUM(I41:T41) -> 0 | E41: =SUM(C41+D41) -> 0 | H41: ='Muut kulutustiedot'!A15 -> Muu polttoaine: polttoaineen nimi (l) | I41: ='Muut kulutustiedot'!B15 -> 0 | J41: ='Muut kulutustiedot'!C15 -> 0 | K41: ='Muut kulutustiedot'!D15 -> 0 | L41: ='Muut kulutustiedot'!E15 -> 0 | M41: ='Muut kulutustiedot'!F15 -> 0 | N41: ='Muut kulutustiedot'!G15 -> 0 | O41: ='Muut kulutustiedot'!H15 -> 0 | ... T41: ='Muut kulutustiedot'!M15 -> 0

Sheet Työmaakoneet koonti
A1: #VALUE!
A6: Työmaakoneet (työmaan sisäinen toiminta) | H6: =COUNTIF(H8:H95,"*") -> 0
A7: Nro. | B7: Merkki | C7: Malli | D7: Työmaakoneen vuosimalli | E7: Rekisterinumero (jos rekisterissä) tai tunniste esim. Volvo 1 | F7: Koneluokka | G7: Stage/ EURO (Alasvetovalikko) | H7: Käyttövoima (Alasvetovalikko) | I7: Pääasiallinen käyttötarkoitus työmaalla | J7: Kulutettu polttoaineen määrä (fossiilinen ja fossiiliton) | K7: Käyttötunnit sähkökäyttöiset työkoneet (h) | L7: Aliurakoitsijan nimi ja Y-tunnus | M7: Lisäkommentit
A8: =Työmaakoneet!A6 -> 1. | B8: =Työmaakoneet!B6 -> 0 | C8: =Työmaakoneet!C6 -> 0 | D8: =Työmaakoneet!D6 -> 0 | E8: =Työmaakoneet!E6 -> 0 | F8: =Työmaakoneet!F6 -> 0 | G8: =Työmaakoneet!G6 -> 0 | H8: =Työmaakoneet!H6 -> 0 | I8: =Työmaakoneet!I6 -> 0 | J8: =Työmaakoneet!AW6+Työmaakoneet!AX6 -> 0 | K8: =Työmaakoneet!AV6 -> 0 | L8: =Työmaakoneet!J6 -> 0 | M8: =Työmaakoneet!K6 -> 0
A9: =Työmaakoneet!A7 -> 2. | B9: =Työmaakoneet!B7 -> 0 | C9: =Työmaakoneet!C7 -> 0 | D9: =Työmaakoneet!D7 -> 0 | E9: =Työmaakoneet!E7 -> 0 | F9: =Työmaakoneet!F7 -> 0 | G9: =Työmaakoneet!G7 -> 0 | H9: =Työmaakoneet!H7 -> 0 | I9: =Työmaakoneet!I7 -> 0 | J9: =Työmaakoneet!AW7+Työmaakoneet!AX7 -> 0 | K9: =Työmaakoneet!AV7 -> 0 | L9: =Työmaakoneet!J7 -> 0 | M9: =Työmaakoneet!K7 -> 0
A10: =Työmaakoneet!A8 -> 3. | B10: =Työmaakoneet!B8 -> 0 | C10: =Työmaakoneet!C8 -> 0 | D10: =Työmaakoneet!D8 -> 0 | E10: =Työmaakoneet!E8 -> 0 | F10: =Työmaakoneet!F8 -> 0 | G10: =Työmaakoneet!G8 -> 0 | H10: =Työmaakoneet!H8 -> 0 | I10: =Työmaakoneet!I8 -> 0 | J10: =Työmaakoneet!AW8+Työmaakoneet!AX8 -> 0 | K10: =Työmaakoneet!AV8 -> 0 | L10: =Työmaakoneet!J8 -> 0 | M10: =Työmaakoneet!K8 -> 0
A11: =Työmaakoneet!A9 -> 4. | B11: =Työmaakoneet!B9 -> 0 | C11: =Työmaakoneet!C9 -> 0 | D11: =Työmaakoneet!D9 -> 0 | E11: =Työmaakoneet!E9 -> 0 | F11: =Työmaakoneet!F9 -> 0 | G11: =Työmaakoneet!G9 -> 0 | H11: =Työmaakoneet!H9 -> 0 | I11: =Työmaakoneet!I9 -> 0 | J11: =Työmaakoneet!AW9+Työmaakoneet!AX9 -> 0 | K11: =Työmaakoneet!AV9 -> 0 | L11: =Työmaakoneet!J9 -> 0 | M11: =Työmaakoneet!K9 -> 0
A12: =Työmaakoneet!A10 -> 5. | B12: =Työmaakoneet!B10 -> 0 | C12: =Työmaakoneet!C10 -> 0 | D12: =Työmaakoneet!D10 -> 0 | E12: =Työmaakoneet!E10 -> 0 | F12: =Työmaakoneet!F10 -> 0 | G12: =Työmaakoneet!G10 -> 0 | H12: =Työmaakoneet!H10 -> 0 | I12: =Työmaakoneet!I10 -> 0 | J12: =Työmaakoneet!AW10+Työmaakoneet!AX10 -> 0 | K12: =Työmaakoneet!AV10 -> 0 | L12: =Työmaakoneet!J10 -> 0 | M12: =Työmaakoneet!K10 -> 0
A13: =Työmaakoneet!A11 -> 6. | B13: =Työmaakoneet!B11 -> 0 | C13: =Työmaakoneet!C11 -> 0 | D13: =Työmaakoneet!D11 -> 0 | E13: =Työmaakoneet!E11 -> 0 | F13: =Työmaakoneet!F11 -> 0 | G13: =Työmaakoneet!G11 -> 0 | H13: =Työmaakoneet!H11 -> 0 | I13: =Työmaakoneet!I11 -> 0 | J13: =Työmaakoneet!AW11+Työmaakoneet!AX11 -> 0 | K13: =Työmaakoneet!AV11 -> 0 | L13: =Työmaakoneet!J11 -> 0 | M13: =Työmaakoneet!K11 -> 0
A14: =Työmaakoneet!A12 -> 7. | B14: =Työmaakoneet!B12 -> 0 | C14: =Työmaakoneet!C12 -> 0 | D14: =Työmaakoneet!D12 -> 0 | E14: =Työmaakoneet!E12 -> 0 | F14: =Työmaakoneet!F12 -> 0 | G14: =Työmaakoneet!G12 -> 0 | H14: =Työmaakoneet!H12 -> 0 | I14: =Työmaakoneet!I12 -> 0 | J14: =Työmaakoneet!AW12+Työmaakoneet!AX12 -> 0 | K14: =Työmaakoneet!AV12 -> 0 | L14: =Työmaakoneet!J12 -> 0 | M14: =Työmaakoneet!K12 -> 0
A15: =Työmaakoneet!A13 -> 8. | B15: =Työmaakoneet!B13 -> 0 | C15: =Työmaakoneet!C13 -> 0 | D15: =Työmaakoneet!D13 -> 0 | E15: =Työmaakoneet!E13 -> 0 | F15: =Työmaakoneet!F13 -> 0 | G15: =Työmaakoneet!G13 -> 0 | H15: =Työmaakoneet!H13 -> 0 | I15: =Työmaakoneet!I13 -> 0 | J15: =Työmaakoneet!AW13+Työmaakoneet!AX13 -> 0 | K15: =Työmaakoneet!AV13 -> 0 | L15: =Työmaakoneet!J13 -> 0 | M15: =Työmaakoneet!K13 -> 0
A16: =Työmaakoneet!A14 -> 9. | B16: =Työmaakoneet!B14 -> 0 | C16: =Työmaakoneet!C14 -> 0 | D16: =Työmaakoneet!D14 -> 0 | E16: =Työmaakoneet!E14 -> 0 | F16: =Työmaakoneet!F14 -> 0 | G16: =Työmaakoneet!G14 -> 0 | H16: =Työmaakoneet!H14 -> 0 | I16: =Työmaakoneet!I14 -> 0 | J16: =Työmaakoneet!AW14+Työmaakoneet!AX14 -> 0 | K16: =Työmaakoneet!AV14 -> 0 | L16: =Työmaakoneet!J14 -> 0 | M16: =Työmaakoneet!K14 -> 0
A17: =Työmaakoneet!A15 -> 10. | B17: =Työmaakoneet!B15 -> 0 | C17: =Työmaakoneet!C15 -> 0 | D17: =Työmaakoneet!D15 -> 0 | E17: =Työmaakoneet!E15 -> 0 | F17: =Työmaakoneet!F15 -> 0 | G17: =Työmaakoneet!G15 -> 0 | H17: =Työmaakoneet!H15 -> 0 | I17: =Työmaakoneet!I15 -> 0 | J17: =Työmaakoneet!AW15+Työmaakoneet!AX15 -> 0 | K17: =Työmaakoneet!AV15 -> 0 | L17: =Työmaakoneet!J15 -> 0 | M17: =Työmaakoneet!K15 -> 0
A18: =Työmaakoneet!A16 -> 11. | B18: =Työmaakoneet!B16 -> 0 | C18: =Työmaakoneet!C16 -> 0 | D18: =Työmaakoneet!D16 -> 0 | E18: =Työmaakoneet!E16 -> 0 | F18: =Työmaakoneet!F16 -> 0 | G18: =Työmaakoneet!G16 -> 0 | H18: =Työmaakoneet!H16 -> 0 | I18: =Työmaakoneet!I16 -> 0 | J18: =Työmaakoneet!AW16+Työmaakoneet!AX16 -> 0 | K18: =Työmaakoneet!AV16 -> 0 | L18: =Työmaakoneet!J16 -> 0 | M18: =Työmaakoneet!K16 -> 0
A19: =Työmaakoneet!A17 -> 12. | B19: =Työmaakoneet!B17 -> 0 | C19: =Työmaakoneet!C17 -> 0 | D19: =Työmaakoneet!D17 -> 0 | E19: =Työmaakoneet!E17 -> 0 | F19: =Työmaakoneet!F17 -> 0 | G19: =Työmaakoneet!G17 -> 0 | H19: =Työmaakoneet!H17 -> 0 | I19: =Työmaakoneet!I17 -> 0 | J19: =Työmaakoneet!AW17+Työmaakoneet!AX17 -> 0 | K19: =Työmaakoneet!AV17 -> 0 | L19: =Työmaakoneet!J17 -> 0 | M19: =Työmaakoneet!K17 -> 0
... A257: =Työmaakoneet!A255 -> 250. | B257: =Työmaakoneet!B255 -> 0 | C257: =Työmaakoneet!C255 -> 0 | D257: =Työmaakoneet!D255 -> 0 | E257: =Työmaakoneet!E255 -> 0 | F257: =Työmaakoneet!F255 -> 0 | G257: =Työmaakoneet!G255 -> 0 | H257: =Työmaakoneet!H255 -> 0 | I257: =Työmaakoneet!I255 -> 0 | J257: =Työmaakoneet!AW255+Työmaakoneet!AX255 -> 0 | K257: =Työmaakoneet!AV255 -> 0 | L257: =Työmaakoneet!J255 -> 0 | M257: =Työmaakoneet!K255 -> 0

Sheet Arvot
B7: Kyllä/ ei | D7: Kuljetus
B8: Kyllä | D8: Sisäinen
B9: Ei | D9: Ulkoinen
B11: Stage/ EURO Vihreällä GD minimi | D11: Käyttövoima/ polttoaine | E11: Päästökerroin [kgCO2e/l] (Sweco/ Akseli vuodelta 2025) Päästökertoimet täytyy tarkastaa ennen käyttöä!!
B12: Stage I | C12: 1. | D12: Sähkö (uusiutuva) | E12: 0
B13: Stage II | C13: 2. | D13: Biokaasu (uusiutuva) | E13: 0
B14: Stage IIIA | C14: 3. | D14: Vety (uusiutuva) | E14: 0
B15: Stage IIIB | C15: 4. | D15: Diesel (uusiutuva) | E15: 0.238
B16: Stage IV | C16: 5. | D16: Kevytpolttoöljy (uusiutuva) | E16: 0.238
B17: Stage V | C17: 6. | D17: Diesel (fossiilinen) | E17: 3.384
B18: Stage VI | C18: 7. | D18: Bensiini (fossiilinen) | E18: 2.02
B19: Euro 1 | C19: 8. | D19: Kevytpolttoöljy (fossiilinen) | E19: 2.88
B20: Euro 2 | C20: 9. | D20: Kaasu (fossiilinen) | E20: 0.00208
B21: Euro 3 | C21: 10. | D21: Sähkö (fossiilinen/alkuperä ei tiedossa) | E21: 0.068
B22: Euro 4 | C22: 11. | D22: Muu polttoaine, jonka alkuperä ei tiedossa | E22: 0
B23: Euro 5 | C23: 12. | D23: Alkylaattibensiini | E23: ?,?? kgCO2e/l
B24: Euro 5a
B25: Euro 5b
B26: Euro 6
B27: Euro 7
B28: Euro 8
B29: Ei luokitusta
